{"text_format":"3","workbook":"xlsx","n_sheets":13,"sheets":["Gennaio","Febbraio","Marzo","Aprile","Maggio","Giugno","Luglio","Agosto","Settembre","Ottobre","Novembre","Dicembre","Nomi coristi"],"not_rendered":{"macros":1,"defined_names":50},"read":"whole","date_system":"1900"}

{"sheet":"Gennaio","index":0,"n_rows":59,"n_cols":39,"rows_kept":59,"merged":[[1,3,1,5],[1,7,1,9],[1,11,1,12],[1,14,1,16],[1,18,1,20],[3,2,3,32]]}
[null,"Assenze dalle attività dei coristi"]
[null,"Chiave tipo di assenza","A","Assente",null,null,"L","Assente Lavoro",null,null,"P","Presente",null,"M","Assente per malatia",{"$nulls":3},"Personalizzata 2"]
[{"$nulls":33},"Immettere l'anno:"]
[null,"Gennaio","Date di assenza",{"$nulls":30},2025]
[null,null,{"$f":"TEXT(WEEKDAY(DATE(AnnoCalendario,1,1),1),\"ggg\")","v":"mer"},{"$f":"TEXT(WEEKDAY(DATE(AnnoCalendario,1,2),1),\"ggg\")","v":"gio"},{"$f":"TEXT(WEEKDAY(DATE(AnnoCalendario,1,3),1),\"ggg\")","v":"ven"},{"$f":"TEXT(WEEKDAY(DATE(AnnoCalendario,1,4),1),\"ggg\")","v":"sab"},{"$f":"TEXT(WEEKDAY(DATE(AnnoCalendario,1,5),1),\"ggg\")","v":"dom"},{"$f":"TEXT(WEEKDAY(DATE(AnnoCalendario,1,6),1),\"ggg\")","v":"lun"},{"$f":"TEXT(WEEKDAY(DATE(AnnoCalendario,1,7),1),\"ggg\")","v":"mar"},{"$f":"TEXT(WEEKDAY(DATE(AnnoCalendario,1,8),1),\"ggg\")","v":"mer"},{"$f":"TEXT(WEEKDAY(DATE(AnnoCalendario,1,9),1),\"ggg\")","v":"gio"},{"$f":"TEXT(WEEKDAY(DATE(AnnoCalendario,1,10),1),\"ggg\")","v":"ven"},{"$f":"TEXT(WEEKDAY(DATE(AnnoCalendario,1,11),1),\"ggg\")","v":"sab"},{"$f":"TEXT(WEEKDAY(DATE(AnnoCalendario,1,12),1),\"ggg\")","v":"dom"},{"$f":"TEXT(WEEKDAY(DATE(AnnoCalendario,1,13),1),\"ggg\")","v":"lun"},{"$f":"TEXT(WEEKDAY(DATE(AnnoCalendario,1,14),1),\"ggg\")","v":"mar"},{"$f":"TEXT(WEEKDAY(DATE(AnnoCalendario,1,15),1),\"ggg\")","v":"mer"},{"$f":"TEXT(WEEKDAY(DATE(AnnoCalendario,1,16),1),\"ggg\")","v":"gio"},{"$f":"TEXT(WEEKDAY(DATE(AnnoCalendario,1,17),1),\"ggg\")","v":"ven"},{"$f":"TEXT(WEEKDAY(DATE(AnnoCalendario,1,18),1),\"ggg\")","v":"sab"},{"$f":"TEXT(WEEKDAY(DATE(AnnoCalendario,1,19),1),\"ggg\")","v":"dom"},{"$f":"TEXT(WEEKDAY(DATE(AnnoCalendario,1,20),1),\"ggg\")","v":"lun"},{"$f":"TEXT(WEEKDAY(DATE(AnnoCalendario,1,21),1),\"ggg\")","v":"mar"},{"$f":"TEXT(WEEKDAY(DATE(AnnoCalendario,1,22),1),\"ggg\")","v":"mer"},{"$f":"TEXT(WEEKDAY(DATE(AnnoCalendario,1,23),1),\"ggg\")","v":"gio"},{"$f":"TEXT(WEEKDAY(DATE(AnnoCalendario,1,24),1),\"ggg\")","v":"ven"},{"$f":"TEXT(WEEKDAY(DATE(AnnoCalendario,1,25),1),\"ggg\")","v":"sab"},{"$f":"TEXT(WEEKDAY(DATE(AnnoCalendario,1,26),1),\"ggg\")","v":"dom"},{"$f":"TEXT(WEEKDAY(DATE(AnnoCalendario,1,27),1),\"ggg\")","v":"lun"},{"$f":"TEXT(WEEKDAY(DATE(AnnoCalendario,1,28),1),\"ggg\")","v":"mar"},{"$f":"TEXT(WEEKDAY(DATE(AnnoCalendario,1,29),1),\"ggg\")","v":"mer"},{"$f":"TEXT(WEEKDAY(DATE(AnnoCalendario,1,30),1),\"ggg\")","v":"gio"},{"$f":"TEXT(WEEKDAY(DATE(AnnoCalendario,1,31),1),\"ggg\")","v":"ven"}]
[null,"Nome dipendente","1","2","3","4","5","6","7","8","9","10","11","12","13","14","15","16","17","18","19","20","21","22","23","24","25","26","27","28","29","30","31","Totale giorni",null,"Assenze","Assenze per lavoro ","Presente","Assente per malattia"]
[null,"Ibba Raffaele",{"$nulls":31},{"$f":"COUNTA(Gennaio!$C7:$AG7)","v":0},null,{"$f":" COUNTIF(C7:AG7, \"*A*\")","v":0},{"$f":" COUNTIF(D7:AH7, \"*L*\")","v":0},{"$f":" COUNTIF(E7:AI7, \"*P*\")","v":0},{"$f":" COUNTIF(F7:AJ7, \"*M*\")","v":0}]
[null,"Chironi Claudio",{"$nulls":31},{"$f":"COUNTA(Gennaio!$C8:$AG8)","v":0},null,0,{"$f":" COUNTIF(D8:AH8, \"*L*\")","v":0},{"$f":" COUNTIF(E8:AI8, \"*P*\")","v":0},{"$f":" COUNTIF(F8:AJ8, \"*M*\")","v":0}]
[null,"Sedda Sandro",{"$nulls":31},{"$f":"COUNTA(Gennaio!$C9:$AG9)","v":0},null,{"$f":" COUNTIF(C9:AG9, \"*A*\")","v":0},0,0,0]
[null,"Sotgiu Alessandro",{"$nulls":31},{"$f":"COUNTA(Gennaio!$C10:$AG10)","v":0},null,{"$f":" COUNTIF(C10:AG10, \"*A*\")","v":0},0,0,0]
[null,"Lucianu Damiano",{"$nulls":31},{"$f":"COUNTA(Gennaio!$C11:$AG11)","v":0},null,0,0,0,0]
[null,"Tedde Paolo",{"$nulls":31},{"$f":"COUNTA(Gennaio!$C12:$AG12)","v":0},null,0,0,0,0]
[null,"Damu Marco",{"$nulls":31},{"$f":"COUNTA(Gennaio!$C13:$AG13)","v":0},null,0,0,0,0]
[null,"Carta Giovanni",{"$nulls":31},{"$f":"COUNTA(Gennaio!$C14:$AG14)","v":0},null,0,0,0,0]
[null,"Piras Francesco",{"$nulls":31},{"$f":"COUNTA(Gennaio!$C15:$AG15)","v":0},null,0,0,0,0]
[null,"Murru Pasquale",{"$nulls":31},{"$f":"COUNTA(Gennaio!$C16:$AG16)","v":0},null,0,0,0,0]
[null,"Tedde Giuseppe",{"$nulls":31},{"$f":"COUNTA(Gennaio!$C17:$AG17)","v":0},null,0,0,0,0]
[null,"Devilla Sergio",{"$nulls":31},{"$f":"COUNTA(Gennaio!$C18:$AG18)","v":0},null,0,0,0,0]
[null,"Gungui Francesco",{"$nulls":31},{"$f":"COUNTA(Gennaio!$C19:$AG19)","v":0},null,0,0,0,0]
[null,"Carta Antonio",{"$nulls":31},{"$f":"COUNTA(Gennaio!$C20:$AG20)","v":0},null,0,0,0,0]
[null,"Fois Luigi",{"$nulls":31},{"$f":"COUNTA(Gennaio!$C21:$AG21)","v":0},null,0,0,0,0]
[null,"Lai Pasquale",{"$nulls":31},{"$f":"COUNTA(Gennaio!$C22:$AG22)","v":0},null,0,0,0,0]
[null,"Carta Michele",{"$nulls":31},{"$f":"COUNTA(Gennaio!$C23:$AG23)","v":0},null,0,0,0,0]
[null,"Carta Filippo",{"$nulls":31},{"$f":"COUNTA(Gennaio!$C24:$AG24)","v":0},null,0,0,0,0]
[null,"Mariane Federico",{"$nulls":31},{"$f":"COUNTA(Gennaio!$C25:$AG25)","v":0},null,0,0,0,0]
[null,"Lai Salvatore",{"$nulls":31},{"$f":"COUNTA(Gennaio!$C26:$AG26)","v":0},null,0,0,0,0]
[null,"Ladu Giovanni",{"$nulls":31},{"$f":"COUNTA(Gennaio!$C27:$AG27)","v":0},null,0,0,0,0]
[null,"Piga Francesco",{"$nulls":31},{"$f":"COUNTA(Gennaio!$C28:$AG28)","v":0},null,0,0,0,0]
[null,"Porqueddu Matteo",{"$nulls":31},{"$f":"COUNTA(Gennaio!$C29:$AG29)","v":0},null,0,0,0,0]
[null,"Guiso Guido",{"$nulls":31},{"$f":"COUNTA(Gennaio!$C30:$AG30)","v":0},null,0,0,0,0]
[null,"Floris Mario",{"$nulls":31},{"$f":"COUNTA(Gennaio!$C31:$AG31)","v":0},null,0,0,0,0]
[null,"Floris Fabio",{"$nulls":31},{"$f":"COUNTA(Gennaio!$C32:$AG32)","v":0},null,0,0,0,0]
[{"$nulls":33},{"$f":"COUNTA(Gennaio!$C33:$AG33)","v":0},null,0,0,0,0]
[{"$nulls":33},{"$f":"COUNTA(Gennaio!$C34:$AG34)","v":0},null,0,0,0,0]
[{"$nulls":33},{"$f":"COUNTA(Gennaio!$C35:$AG35)","v":0},null,0,0,0,0]
[{"$nulls":33},{"$f":"COUNTA(Gennaio!$C36:$AG36)","v":0},null,0,0,0,0]
[{"$nulls":33},{"$f":"COUNTA(Gennaio!$C37:$AG37)","v":0},null,0,0,0,0]
[{"$nulls":33},{"$f":"COUNTA(Gennaio!$C38:$AG38)","v":0},null,0,0,0,0]
[{"$nulls":33},{"$f":"COUNTA(Gennaio!$C39:$AG39)","v":0},null,0,0,0,0]
[{"$nulls":33},{"$f":"COUNTA(Gennaio!$C40:$AG40)","v":0},null,0,0,0,0]
[{"$nulls":33},{"$f":"COUNTA(Gennaio!$C41:$AG41)","v":0},null,0,0,0,0]
[{"$nulls":33},{"$f":"COUNTA(Gennaio!$C42:$AG42)","v":0},null,0,0,0,0]
[{"$nulls":33},{"$f":"COUNTA(Gennaio!$C43:$AG43)","v":0},null,0,0,0,0]
[{"$nulls":33},{"$f":"COUNTA(Gennaio!$C44:$AG44)","v":0},null,0,0,0,0]
[{"$nulls":33},{"$f":"COUNTA(Gennaio!$C45:$AG45)","v":0},null,0,0,0,0]
[{"$nulls":33},{"$f":"COUNTA(Gennaio!$C46:$AG46)","v":0},null,0,0,0,0]
[{"$nulls":33},{"$f":"COUNTA(Gennaio!$C47:$AG47)","v":0},null,0,0,0,0]
[{"$nulls":33},{"$f":"COUNTA(Gennaio!$C48:$AG48)","v":0},null,0,0,0,0]
[{"$nulls":33},{"$f":"COUNTA(Gennaio!$C49:$AG49)","v":0},null,0,0,0,0]
[{"$nulls":33},{"$f":"COUNTA(Gennaio!$C50:$AG50)","v":0},null,0,0,0,0]
[{"$nulls":33},{"$f":"COUNTA(Gennaio!$C51:$AG51)","v":0},null,0,0,0,0]
[{"$nulls":33},{"$f":"COUNTA(Gennaio!$C52:$AG52)","v":0},null,0,0,0,0]
[{"$nulls":33},{"$f":"COUNTA(Gennaio!$C53:$AG53)","v":0},null,0,0,0,0]
[{"$nulls":33},{"$f":"COUNTA(Gennaio!$C54:$AG54)","v":0},null,0,0,0,0]
[{"$nulls":33},{"$f":"COUNTA(Gennaio!$C55:$AG55)","v":0},null,0,0,0,0]
[{"$nulls":33},{"$f":"COUNTA(Gennaio!$C56:$AG56)","v":0},null,0,0,0,0]
[{"$nulls":33},{"$f":"COUNTA(Gennaio!$C57:$AG57)","v":0},null,0,0,0,0]
[{"$nulls":33},{"$f":"COUNTA(Gennaio!$C58:$AG58)","v":0},null,0,0,0,0]
[null,{"$f":"\"Totale \"&NomeMese","v":"Totale Gennaio"},{"$f":"SUBTOTAL(103,Gennaio!$C$7:$C$58)","v":0},{"$f":"SUBTOTAL(103,Gennaio!$D$7:$D$58)","v":0},{"$f":"SUBTOTAL(103,Gennaio!$E$7:$E$58)","v":0},{"$f":"SUBTOTAL(103,Gennaio!$F$7:$F$58)","v":0},{"$f":"SUBTOTAL(103,Gennaio!$G$7:$G$58)","v":0},{"$f":"SUBTOTAL(103,Gennaio!$H$7:$H$58)","v":0},{"$f":"SUBTOTAL(103,Gennaio!$I$7:$I$58)","v":0},{"$f":"SUBTOTAL(103,Gennaio!$J$7:$J$58)","v":0},{"$f":"SUBTOTAL(103,Gennaio!$K$7:$K$58)","v":0},{"$f":"SUBTOTAL(103,Gennaio!$L$7:$L$58)","v":0},{"$f":"SUBTOTAL(103,Gennaio!$M$7:$M$58)","v":0},{"$f":"SUBTOTAL(103,Gennaio!$N$7:$N$58)","v":0},{"$f":"SUBTOTAL(103,Gennaio!$O$7:$O$58)","v":0},{"$f":"SUBTOTAL(103,Gennaio!$P$7:$P$58)","v":0},{"$f":"SUBTOTAL(103,Gennaio!$Q$7:$Q$58)","v":0},{"$f":"SUBTOTAL(103,Gennaio!$R$7:$R$58)","v":0},{"$f":"SUBTOTAL(103,Gennaio!$S$7:$S$58)","v":0},{"$f":"SUBTOTAL(103,Gennaio!$T$7:$T$58)","v":0},{"$f":"SUBTOTAL(103,Gennaio!$U$7:$U$58)","v":0},{"$f":"SUBTOTAL(103,Gennaio!$V$7:$V$58)","v":0},{"$f":"SUBTOTAL(103,Gennaio!$W$7:$W$58)","v":0},{"$f":"SUBTOTAL(103,Gennaio!$X$7:$X$58)","v":0},{"$f":"SUBTOTAL(103,Gennaio!$Y$7:$Y$58)","v":0},{"$f":"SUBTOTAL(103,Gennaio!$Z$7:$Z$58)","v":0},{"$f":"SUBTOTAL(103,Gennaio!$AA$7:$AA$58)","v":0},{"$f":"SUBTOTAL(103,Gennaio!$AB$7:$AB$58)","v":0},{"$f":"SUBTOTAL(103,Gennaio!$AC$7:$AC$58)","v":0},{"$f":"SUBTOTAL(103,Gennaio!$AD$7:$AD$58)","v":0},{"$f":"SUBTOTAL(103,Gennaio!$AE$7:$AE$58)","v":0},{"$f":"SUBTOTAL(103,Gennaio!$AF$7:$AF$58)","v":0},{"$f":"SUBTOTAL(103,Gennaio!$AG$7:$AG$58)","v":0},{"$f":"SUBTOTAL(109,Gennaio[Totale giorni])","v":0}]

{"sheet":"Febbraio","index":1,"n_rows":59,"n_cols":39,"rows_kept":59,"merged":[[1,3,1,5],[1,7,1,9],[1,11,1,12],[1,14,1,16],[1,18,1,20],[3,2,3,32]]}
[null,"Assenze dalle attività dei coristi"]
[null,"Chiave tipo di assenza","A","Assente",null,null,"L","Assente Lavoro",null,null,"P","Presente",null,"M","Assente per malatia",{"$nulls":3},"Personalizzata 2"]
[]
[null,"Febbraio","Date di assenza",{"$nulls":30},{"$f":"AnnoCalendario","v":2025}]
[null,null,{"$f":"TEXT(WEEKDAY(DATE(AnnoCalendario,2,1),1),\"ggg\")","v":"sab"},{"$f":"TEXT(WEEKDAY(DATE(AnnoCalendario,2,2),1),\"ggg\")","v":"dom"},{"$f":"TEXT(WEEKDAY(DATE(AnnoCalendario,2,3),1),\"ggg\")","v":"lun"},{"$f":"TEXT(WEEKDAY(DATE(AnnoCalendario,2,4),1),\"ggg\")","v":"mar"},{"$f":"TEXT(WEEKDAY(DATE(AnnoCalendario,2,5),1),\"ggg\")","v":"mer"},{"$f":"TEXT(WEEKDAY(DATE(AnnoCalendario,2,6),1),\"ggg\")","v":"gio"},{"$f":"TEXT(WEEKDAY(DATE(AnnoCalendario,2,7),1),\"ggg\")","v":"ven"},{"$f":"TEXT(WEEKDAY(DATE(AnnoCalendario,2,8),1),\"ggg\")","v":"sab"},{"$f":"TEXT(WEEKDAY(DATE(AnnoCalendario,2,9),1),\"ggg\")","v":"dom"},{"$f":"TEXT(WEEKDAY(DATE(AnnoCalendario,2,10),1),\"ggg\")","v":"lun"},{"$f":"TEXT(WEEKDAY(DATE(AnnoCalendario,2,11),1),\"ggg\")","v":"mar"},{"$f":"TEXT(WEEKDAY(DATE(AnnoCalendario,2,12),1),\"ggg\")","v":"mer"},{"$f":"TEXT(WEEKDAY(DATE(AnnoCalendario,2,13),1),\"ggg\")","v":"gio"},{"$f":"TEXT(WEEKDAY(DATE(AnnoCalendario,2,14),1),\"ggg\")","v":"ven"},{"$f":"TEXT(WEEKDAY(DATE(AnnoCalendario,2,15),1),\"ggg\")","v":"sab"},{"$f":"TEXT(WEEKDAY(DATE(AnnoCalendario,2,16),1),\"ggg\")","v":"dom"},{"$f":"TEXT(WEEKDAY(DATE(AnnoCalendario,2,17),1),\"ggg\")","v":"lun"},{"$f":"TEXT(WEEKDAY(DATE(AnnoCalendario,2,18),1),\"ggg\")","v":"mar"},{"$f":"TEXT(WEEKDAY(DATE(AnnoCalendario,2,19),1),\"ggg\")","v":"mer"},{"$f":"TEXT(WEEKDAY(DATE(AnnoCalendario,2,20),1),\"ggg\")","v":"gio"},{"$f":"TEXT(WEEKDAY(DATE(AnnoCalendario,2,21),1),\"ggg\")","v":"ven"},{"$f":"TEXT(WEEKDAY(DATE(AnnoCalendario,2,22),1),\"ggg\")","v":"sab"},{"$f":"TEXT(WEEKDAY(DATE(AnnoCalendario,2,23),1),\"ggg\")","v":"dom"},{"$f":"TEXT(WEEKDAY(DATE(AnnoCalendario,2,24),1),\"ggg\")","v":"lun"},{"$f":"TEXT(WEEKDAY(DATE(AnnoCalendario,2,25),1),\"ggg\")","v":"mar"},{"$f":"TEXT(WEEKDAY(DATE(AnnoCalendario,2,26),1),\"ggg\")","v":"mer"},{"$f":"TEXT(WEEKDAY(DATE(AnnoCalendario,2,27),1),\"ggg\")","v":"gio"},{"$f":"TEXT(WEEKDAY(DATE(AnnoCalendario,2,28),1),\"ggg\")","v":"ven"},{"$f":"TEXT(WEEKDAY(DATE(AnnoCalendario,2,29),1),\"ggg\")","v":"sab"}]
[null,"Nome dipendente","1","2","3","4","5","6","7","8","9","10","11","12","13","14","15","16","17","18","19","20","21","22","23","24","25","26","27","28","29"," ","  ","Totale giorni",null,"Assenze","Assenze per lavoro ","Presente","Assente per malattia"]
[null,"Ibba Raffaele",{"$nulls":31},{"$f":"COUNTA(Febbraio[[#This Row],[1]:[29]])","v":0},null,{"$f":" COUNTIF(C7:AG7, \"*A*\")","v":0},{"$f":" COUNTIF(D7:AH7, \"*L*\")","v":0},{"$f":" COUNTIF(E7:AI7, \"*P*\")","v":0},{"$f":" COUNTIF(F7:AJ7, \"*M*\")","v":0}]
[null,"Chironi Claudio",{"$nulls":31},{"$f":"COUNTA(Febbraio[[#This Row],[1]:[29]])","v":0},null,0,{"$f":" COUNTIF(D8:AH8, \"*L*\")","v":0},{"$f":" COUNTIF(E8:AI8, \"*P*\")","v":0},{"$f":" COUNTIF(F8:AJ8, \"*M*\")","v":0}]
[null,"Sedda Sandro",{"$nulls":31},{"$f":"COUNTA(Febbraio[[#This Row],[1]:[29]])","v":0},null,{"$f":" COUNTIF(C9:AG9, \"*A*\")","v":0},0,0,0]
[null,"Sotgiu Alessandro",{"$nulls":31},{"$f":"COUNTA(Febbraio[[#This Row],[1]:[29]])","v":0},null,{"$f":" COUNTIF(C10:AG10, \"*A*\")","v":0},0,0,0]
[null,"Lucianu Damiano",{"$nulls":31},{"$f":"COUNTA(Febbraio[[#This Row],[1]:[29]])","v":0},null,0,0,0,0]
[null,"Tedde Paolo",{"$nulls":31},{"$f":"COUNTA(Febbraio[[#This Row],[1]:[29]])","v":0},null,0,0,0,0]
[null,"Damu Marco",{"$nulls":31},{"$f":"COUNTA(Febbraio[[#This Row],[1]:[29]])","v":0},null,0,0,0,0]
[null,"Carta Giovanni",{"$nulls":31},{"$f":"COUNTA(Febbraio[[#This Row],[1]:[29]])","v":0},null,0,0,0,0]
[null,"Piras Francesco",{"$nulls":31},{"$f":"COUNTA(Febbraio[[#This Row],[1]:[29]])","v":0},null,0,0,0,0]
[null,"Murru Pasquale",{"$nulls":31},{"$f":"COUNTA(Febbraio[[#This Row],[1]:[29]])","v":0},null,0,0,0,0]
[null,"Tedde Giuseppe",{"$nulls":31},{"$f":"COUNTA(Febbraio[[#This Row],[1]:[29]])","v":0},null,0,0,0,0]
[null,"Devilla Sergio",{"$nulls":31},{"$f":"COUNTA(Febbraio[[#This Row],[1]:[29]])","v":0},null,0,0,0,0]
[null,"Gungui Francesco",{"$nulls":31},{"$f":"COUNTA(Febbraio[[#This Row],[1]:[29]])","v":0},null,0,0,0,0]
[null,"Carta Antonio",{"$nulls":31},{"$f":"COUNTA(Febbraio[[#This Row],[1]:[29]])","v":0},null,0,0,0,0]
[null,"Fois Luigi",{"$nulls":31},{"$f":"COUNTA(Febbraio[[#This Row],[1]:[29]])","v":0},null,0,0,0,0]
[null,"Lai Pasquale",{"$nulls":31},{"$f":"COUNTA(Febbraio[[#This Row],[1]:[29]])","v":0},null,0,0,0,0]
[null,"Carta Michele",{"$nulls":31},{"$f":"COUNTA(Febbraio[[#This Row],[1]:[29]])","v":0},null,0,0,0,0]
[null,"Carta Filippo",{"$nulls":31},{"$f":"COUNTA(Febbraio[[#This Row],[1]:[29]])","v":0},null,0,0,0,0]
[null,"Mariane Federico",{"$nulls":31},{"$f":"COUNTA(Febbraio[[#This Row],[1]:[29]])","v":0},null,0,0,0,0]
[null,"Lai Salvatore",{"$nulls":31},{"$f":"COUNTA(Febbraio[[#This Row],[1]:[29]])","v":0},null,0,0,0,0]
[null,"Ladu Giovanni",{"$nulls":31},{"$f":"COUNTA(Febbraio[[#This Row],[1]:[29]])","v":0},null,0,0,0,0]
[null,"Piga Francesco",{"$nulls":31},{"$f":"COUNTA(Febbraio[[#This Row],[1]:[29]])","v":0},null,0,0,0,0]
[null,"Porqueddu Matteo",{"$nulls":31},{"$f":"COUNTA(Febbraio[[#This Row],[1]:[29]])","v":0},null,0,0,0,0]
[null,"Guiso Guido",{"$nulls":31},{"$f":"COUNTA(Febbraio[[#This Row],[1]:[29]])","v":0},null,0,0,0,0]
[null,"Floris Mario",{"$nulls":31},{"$f":"COUNTA(Febbraio[[#This Row],[1]:[29]])","v":0},null,0,0,0,0]
[null,"Floris Fabio",{"$nulls":31},{"$f":"COUNTA(Febbraio[[#This Row],[1]:[29]])","v":0},null,0,0,0,0]
[{"$nulls":33},{"$f":"COUNTA(Febbraio[[#This Row],[1]:[29]])","v":0},null,0,0,0,0]
[{"$nulls":33},{"$f":"COUNTA(Febbraio[[#This Row],[1]:[29]])","v":0},null,0,0,0,0]
[{"$nulls":33},{"$f":"COUNTA(Febbraio[[#This Row],[1]:[29]])","v":0},null,0,0,0,0]
[{"$nulls":33},{"$f":"COUNTA(Febbraio[[#This Row],[1]:[29]])","v":0},null,0,0,0,0]
[{"$nulls":33},{"$f":"COUNTA(Febbraio[[#This Row],[1]:[29]])","v":0},null,0,0,0,0]
[{"$nulls":33},{"$f":"COUNTA(Febbraio[[#This Row],[1]:[29]])","v":0},null,0,0,0,0]
[{"$nulls":33},{"$f":"COUNTA(Febbraio[[#This Row],[1]:[29]])","v":0},null,0,0,0,0]
[{"$nulls":33},{"$f":"COUNTA(Febbraio[[#This Row],[1]:[29]])","v":0},null,0,0,0,0]
[{"$nulls":33},{"$f":"COUNTA(Febbraio[[#This Row],[1]:[29]])","v":0},null,0,0,0,0]
[{"$nulls":33},{"$f":"COUNTA(Febbraio[[#This Row],[1]:[29]])","v":0},null,0,0,0,0]
[{"$nulls":33},{"$f":"COUNTA(Febbraio[[#This Row],[1]:[29]])","v":0},null,0,0,0,0]
[{"$nulls":33},{"$f":"COUNTA(Febbraio[[#This Row],[1]:[29]])","v":0},null,0,0,0,0]
[{"$nulls":33},{"$f":"COUNTA(Febbraio[[#This Row],[1]:[29]])","v":0},null,0,0,0,0]
[{"$nulls":33},{"$f":"COUNTA(Febbraio[[#This Row],[1]:[29]])","v":0},null,0,0,0,0]
[{"$nulls":33},{"$f":"COUNTA(Febbraio[[#This Row],[1]:[29]])","v":0},null,0,0,0,0]
[{"$nulls":33},{"$f":"COUNTA(Febbraio[[#This Row],[1]:[29]])","v":0},null,0,0,0,0]
[{"$nulls":33},{"$f":"COUNTA(Febbraio[[#This Row],[1]:[29]])","v":0},null,0,0,0,0]
[{"$nulls":33},{"$f":"COUNTA(Febbraio[[#This Row],[1]:[29]])","v":0},null,0,0,0,0]
[{"$nulls":33},{"$f":"COUNTA(Febbraio[[#This Row],[1]:[29]])","v":0},null,0,0,0,0]
[{"$nulls":33},{"$f":"COUNTA(Febbraio[[#This Row],[1]:[29]])","v":0},null,0,0,0,0]
[{"$nulls":33},{"$f":"COUNTA(Febbraio[[#This Row],[1]:[29]])","v":0},null,0,0,0,0]
[{"$nulls":33},{"$f":"COUNTA(Febbraio[[#This Row],[1]:[29]])","v":0},null,0,0,0,0]
[{"$nulls":33},{"$f":"COUNTA(Febbraio[[#This Row],[1]:[29]])","v":0},null,0,0,0,0]
[{"$nulls":33},{"$f":"COUNTA(Febbraio[[#This Row],[1]:[29]])","v":0},null,0,0,0,0]
[{"$nulls":33},{"$f":"COUNTA(Febbraio[[#This Row],[1]:[29]])","v":0},null,0,0,0,0]
[{"$nulls":33},{"$f":"COUNTA(Febbraio[[#This Row],[1]:[29]])","v":0},null,0,0,0,0]
[null,{"$f":"\"Totale \"&NomeMese","v":"Totale Febbraio"},{"$f":"SUBTOTAL(103,Febbraio[1])","v":0},{"$f":"SUBTOTAL(103,Febbraio[2])","v":0},{"$f":"SUBTOTAL(103,Febbraio[3])","v":0},{"$f":"SUBTOTAL(103,Febbraio[4])","v":0},{"$f":"SUBTOTAL(103,Febbraio[5])","v":0},{"$f":"SUBTOTAL(103,Febbraio[6])","v":0},{"$f":"SUBTOTAL(103,Febbraio[7])","v":0},{"$f":"SUBTOTAL(103,Febbraio[8])","v":0},{"$f":"SUBTOTAL(103,Febbraio[9])","v":0},{"$f":"SUBTOTAL(103,Febbraio[10])","v":0},{"$f":"SUBTOTAL(103,Febbraio[11])","v":0},{"$f":"SUBTOTAL(103,Febbraio[12])","v":0},{"$f":"SUBTOTAL(103,Febbraio[13])","v":0},{"$f":"SUBTOTAL(103,Febbraio[14])","v":0},{"$f":"SUBTOTAL(103,Febbraio[15])","v":0},{"$f":"SUBTOTAL(103,Febbraio[16])","v":0},{"$f":"SUBTOTAL(103,Febbraio[17])","v":0},{"$f":"SUBTOTAL(103,Febbraio[18])","v":0},{"$f":"SUBTOTAL(103,Febbraio[19])","v":0},{"$f":"SUBTOTAL(103,Febbraio[20])","v":0},{"$f":"SUBTOTAL(103,Febbraio[21])","v":0},{"$f":"SUBTOTAL(103,Febbraio[22])","v":0},{"$f":"SUBTOTAL(103,Febbraio[23])","v":0},{"$f":"SUBTOTAL(103,Febbraio[24])","v":0},{"$f":"SUBTOTAL(103,Febbraio[25])","v":0},{"$f":"SUBTOTAL(103,Febbraio[26])","v":0},{"$f":"SUBTOTAL(103,Febbraio[27])","v":0},{"$f":"SUBTOTAL(103,Febbraio[28])","v":0},{"$f":"SUBTOTAL(103,Febbraio[29])","v":0},null,null,{"$f":"SUBTOTAL(109,Febbraio[Totale giorni])","v":0}]

{"sheet":"Marzo","index":2,"n_rows":59,"n_cols":39,"rows_kept":59,"merged":[[1,3,1,5],[1,7,1,9],[1,11,1,12],[1,14,1,16],[1,18,1,20],[3,2,3,32]]}
[null,"Assenze dalle attività dei coristi"]
[null,"Chiave tipo di assenza","A","Assente",null,null,"L","Assente Lavoro",null,null,"P","Presente",null,"M","Assente per malatia",{"$nulls":3},"Personalizzata 2"]
[]
[null,"Marzo","Date di assenza",{"$nulls":30},{"$f":"AnnoCalendario","v":2025}]
[null,null,{"$f":"TEXT(WEEKDAY(DATE(AnnoCalendario,3,1),1),\"ggg\")","v":"sab"},{"$f":"TEXT(WEEKDAY(DATE(AnnoCalendario,3,2),1),\"ggg\")","v":"dom"},{"$f":"TEXT(WEEKDAY(DATE(AnnoCalendario,3,3),1),\"ggg\")","v":"lun"},{"$f":"TEXT(WEEKDAY(DATE(AnnoCalendario,3,4),1),\"ggg\")","v":"mar"},{"$f":"TEXT(WEEKDAY(DATE(AnnoCalendario,3,5),1),\"ggg\")","v":"mer"},{"$f":"TEXT(WEEKDAY(DATE(AnnoCalendario,3,6),1),\"ggg\")","v":"gio"},{"$f":"TEXT(WEEKDAY(DATE(AnnoCalendario,3,7),1),\"ggg\")","v":"ven"},{"$f":"TEXT(WEEKDAY(DATE(AnnoCalendario,3,8),1),\"ggg\")","v":"sab"},{"$f":"TEXT(WEEKDAY(DATE(AnnoCalendario,3,9),1),\"ggg\")","v":"dom"},{"$f":"TEXT(WEEKDAY(DATE(AnnoCalendario,3,10),1),\"ggg\")","v":"lun"},{"$f":"TEXT(WEEKDAY(DATE(AnnoCalendario,3,11),1),\"ggg\")","v":"mar"},{"$f":"TEXT(WEEKDAY(DATE(AnnoCalendario,3,12),1),\"ggg\")","v":"mer"},{"$f":"TEXT(WEEKDAY(DATE(AnnoCalendario,3,13),1),\"ggg\")","v":"gio"},{"$f":"TEXT(WEEKDAY(DATE(AnnoCalendario,3,14),1),\"ggg\")","v":"ven"},{"$f":"TEXT(WEEKDAY(DATE(AnnoCalendario,3,15),1),\"ggg\")","v":"sab"},{"$f":"TEXT(WEEKDAY(DATE(AnnoCalendario,3,16),1),\"ggg\")","v":"dom"},{"$f":"TEXT(WEEKDAY(DATE(AnnoCalendario,3,17),1),\"ggg\")","v":"lun"},{"$f":"TEXT(WEEKDAY(DATE(AnnoCalendario,3,18),1),\"ggg\")","v":"mar"},{"$f":"TEXT(WEEKDAY(DATE(AnnoCalendario,3,19),1),\"ggg\")","v":"mer"},{"$f":"TEXT(WEEKDAY(DATE(AnnoCalendario,3,20),1),\"ggg\")","v":"gio"},{"$f":"TEXT(WEEKDAY(DATE(AnnoCalendario,3,21),1),\"ggg\")","v":"ven"},{"$f":"TEXT(WEEKDAY(DATE(AnnoCalendario,3,22),1),\"ggg\")","v":"sab"},{"$f":"TEXT(WEEKDAY(DATE(AnnoCalendario,3,23),1),\"ggg\")","v":"dom"},{"$f":"TEXT(WEEKDAY(DATE(AnnoCalendario,3,24),1),\"ggg\")","v":"lun"},{"$f":"TEXT(WEEKDAY(DATE(AnnoCalendario,3,25),1),\"ggg\")","v":"mar"},{"$f":"TEXT(WEEKDAY(DATE(AnnoCalendario,3,26),1),\"ggg\")","v":"mer"},{"$f":"TEXT(WEEKDAY(DATE(AnnoCalendario,3,27),1),\"ggg\")","v":"gio"},{"$f":"TEXT(WEEKDAY(DATE(AnnoCalendario,3,28),1),\"ggg\")","v":"ven"},{"$f":"TEXT(WEEKDAY(DATE(AnnoCalendario,3,29),1),\"ggg\")","v":"sab"},{"$f":"TEXT(WEEKDAY(DATE(AnnoCalendario,3,30),1),\"ggg\")","v":"dom"},{"$f":"TEXT(WEEKDAY(DATE(AnnoCalendario,3,31),1),\"ggg\")","v":"lun"}]
[null,"Nome dipendente","1","2","3","4","5","6","7","8","9","10","11","12","13","14","15","16","17","18","19","20","21","22","23","24","25","26","27","28","29","30","31","Totale giorni",null,"Assenze","Assenze per lavoro ","Presente","Assente per malattia"]
[null,"Ibba Raffaele",{"$nulls":31},{"$f":"COUNTA(Marzo[[#This Row],[1]:[31]])","v":0},null,{"$f":" COUNTIF(C7:AG7, \"*A*\")","v":0},{"$f":" COUNTIF(D7:AH7, \"*L*\")","v":0},{"$f":" COUNTIF(E7:AI7, \"*P*\")","v":0},{"$f":" COUNTIF(F7:AJ7, \"*M*\")","v":0}]
[null,"Chironi Claudio",{"$nulls":31},{"$f":"COUNTA(Marzo[[#This Row],[1]:[31]])","v":0},null,0,{"$f":" COUNTIF(D8:AH8, \"*L*\")","v":0},{"$f":" COUNTIF(E8:AI8, \"*P*\")","v":0},{"$f":" COUNTIF(F8:AJ8, \"*M*\")","v":0}]
[null,"Sedda Sandro",{"$nulls":31},{"$f":"COUNTA(Marzo[[#This Row],[1]:[31]])","v":0},null,{"$f":" COUNTIF(C9:AG9, \"*A*\")","v":0},0,0,0]
[null,"Sotgiu Alessandro",{"$nulls":31},{"$f":"COUNTA(Marzo[[#This Row],[1]:[31]])","v":0},null,{"$f":" COUNTIF(C10:AG10, \"*A*\")","v":0},0,0,0]
[null,"Lucianu Damiano",{"$nulls":31},{"$f":"COUNTA(Marzo[[#This Row],[1]:[31]])","v":0},null,0,0,0,0]
[null,"Tedde Paolo",{"$nulls":31},{"$f":"COUNTA(Marzo[[#This Row],[1]:[31]])","v":0},null,0,0,0,0]
[null,"Damu Marco",{"$nulls":31},{"$f":"COUNTA(Marzo[[#This Row],[1]:[31]])","v":0},null,0,0,0,0]
[null,"Carta Giovanni",{"$nulls":31},{"$f":"COUNTA(Marzo[[#This Row],[1]:[31]])","v":0},null,0,0,0,0]
[null,"Piras Francesco",{"$nulls":31},{"$f":"COUNTA(Marzo[[#This Row],[1]:[31]])","v":0},null,0,0,0,0]
[null,"Murru Pasquale",{"$nulls":31},{"$f":"COUNTA(Marzo[[#This Row],[1]:[31]])","v":0},null,0,0,0,0]
[null,"Tedde Giuseppe",{"$nulls":31},{"$f":"COUNTA(Marzo[[#This Row],[1]:[31]])","v":0},null,0,0,0,0]
[null,"Devilla Sergio",{"$nulls":31},{"$f":"COUNTA(Marzo[[#This Row],[1]:[31]])","v":0},null,0,0,0,0]
[null,"Gungui Francesco",{"$nulls":31},{"$f":"COUNTA(Marzo[[#This Row],[1]:[31]])","v":0},null,0,0,0,0]
[null,"Carta Antonio",{"$nulls":31},{"$f":"COUNTA(Marzo[[#This Row],[1]:[31]])","v":0},null,0,0,0,0]
[null,"Fois Luigi",{"$nulls":31},{"$f":"COUNTA(Marzo[[#This Row],[1]:[31]])","v":0},null,0,0,0,0]
[null,"Lai Pasquale",{"$nulls":31},{"$f":"COUNTA(Marzo[[#This Row],[1]:[31]])","v":0},null,0,0,0,0]
[null,"Carta Michele",{"$nulls":31},{"$f":"COUNTA(Marzo[[#This Row],[1]:[31]])","v":0},null,0,0,0,0]
[null,"Carta Filippo",{"$nulls":31},{"$f":"COUNTA(Marzo[[#This Row],[1]:[31]])","v":0},null,0,0,0,0]
[null,"Mariane Federico",{"$nulls":31},{"$f":"COUNTA(Marzo[[#This Row],[1]:[31]])","v":0},null,0,0,0,0]
[null,"Lai Salvatore",{"$nulls":31},{"$f":"COUNTA(Marzo[[#This Row],[1]:[31]])","v":0},null,0,0,0,0]
[null,"Ladu Giovanni",{"$nulls":31},{"$f":"COUNTA(Marzo[[#This Row],[1]:[31]])","v":0},null,0,0,0,0]
[null,"Piga Francesco",{"$nulls":31},{"$f":"COUNTA(Marzo[[#This Row],[1]:[31]])","v":0},null,0,0,0,0]
[null,"Porqueddu Matteo",{"$nulls":31},{"$f":"COUNTA(Marzo[[#This Row],[1]:[31]])","v":0},null,0,0,0,0]
[null,"Guiso Guido",{"$nulls":31},{"$f":"COUNTA(Marzo[[#This Row],[1]:[31]])","v":0},null,0,0,0,0]
[null,"Floris Mario",{"$nulls":31},{"$f":"COUNTA(Marzo[[#This Row],[1]:[31]])","v":0},null,0,0,0,0]
[null,"Floris Fabio",{"$nulls":31},{"$f":"COUNTA(Marzo[[#This Row],[1]:[31]])","v":0},null,0,0,0,0]
[{"$nulls":33},{"$f":"COUNTA(Marzo[[#This Row],[1]:[31]])","v":0},null,0,0,0,0]
[{"$nulls":33},{"$f":"COUNTA(Marzo[[#This Row],[1]:[31]])","v":0},null,0,0,0,0]
[{"$nulls":33},{"$f":"COUNTA(Marzo[[#This Row],[1]:[31]])","v":0},null,0,0,0,0]
[{"$nulls":33},{"$f":"COUNTA(Marzo[[#This Row],[1]:[31]])","v":0},null,0,0,0,0]
[{"$nulls":33},{"$f":"COUNTA(Marzo[[#This Row],[1]:[31]])","v":0},null,0,0,0,0]
[{"$nulls":33},{"$f":"COUNTA(Marzo[[#This Row],[1]:[31]])","v":0},null,0,0,0,0]
[{"$nulls":33},{"$f":"COUNTA(Marzo[[#This Row],[1]:[31]])","v":0},null,0,0,0,0]
[{"$nulls":33},{"$f":"COUNTA(Marzo[[#This Row],[1]:[31]])","v":0},null,0,0,0,0]
[{"$nulls":33},{"$f":"COUNTA(Marzo[[#This Row],[1]:[31]])","v":0},null,0,0,0,0]
[{"$nulls":33},{"$f":"COUNTA(Marzo[[#This Row],[1]:[31]])","v":0},null,0,0,0,0]
[{"$nulls":33},{"$f":"COUNTA(Marzo[[#This Row],[1]:[31]])","v":0},null,0,0,0,0]
[{"$nulls":33},{"$f":"COUNTA(Marzo[[#This Row],[1]:[31]])","v":0},null,0,0,0,0]
[{"$nulls":33},{"$f":"COUNTA(Marzo[[#This Row],[1]:[31]])","v":0},null,0,0,0,0]
[{"$nulls":33},{"$f":"COUNTA(Marzo[[#This Row],[1]:[31]])","v":0},null,0,0,0,0]
[{"$nulls":33},{"$f":"COUNTA(Marzo[[#This Row],[1]:[31]])","v":0},null,0,0,0,0]
[{"$nulls":33},{"$f":"COUNTA(Marzo[[#This Row],[1]:[31]])","v":0},null,0,0,0,0]
[{"$nulls":33},{"$f":"COUNTA(Marzo[[#This Row],[1]:[31]])","v":0},null,0,0,0,0]
[{"$nulls":33},{"$f":"COUNTA(Marzo[[#This Row],[1]:[31]])","v":0},null,0,0,0,0]
[{"$nulls":33},{"$f":"COUNTA(Marzo[[#This Row],[1]:[31]])","v":0},null,0,0,0,0]
[{"$nulls":33},{"$f":"COUNTA(Marzo[[#This Row],[1]:[31]])","v":0},null,0,0,0,0]
[{"$nulls":33},{"$f":"COUNTA(Marzo[[#This Row],[1]:[31]])","v":0},null,0,0,0,0]
[{"$nulls":33},{"$f":"COUNTA(Marzo[[#This Row],[1]:[31]])","v":0},null,0,0,0,0]
[{"$nulls":33},{"$f":"COUNTA(Marzo[[#This Row],[1]:[31]])","v":0},null,0,0,0,0]
[{"$nulls":33},{"$f":"COUNTA(Marzo[[#This Row],[1]:[31]])","v":0},null,0,0,0,0]
[{"$nulls":33},{"$f":"COUNTA(Marzo[[#This Row],[1]:[31]])","v":0},null,0,0,0,0]
[{"$nulls":33},{"$f":"COUNTA(Marzo[[#This Row],[1]:[31]])","v":0},null,0,0,0,0]
[null,{"$f":"\"Totale \"&NomeMese","v":"Totale Marzo"},{"$f":"SUBTOTAL(103,Marzo[1])","v":0},{"$f":"SUBTOTAL(103,Marzo[2])","v":0},{"$f":"SUBTOTAL(103,Marzo[3])","v":0},{"$f":"SUBTOTAL(103,Marzo[4])","v":0},{"$f":"SUBTOTAL(103,Marzo[5])","v":0},{"$f":"SUBTOTAL(103,Marzo[6])","v":0},{"$f":"SUBTOTAL(103,Marzo[7])","v":0},{"$f":"SUBTOTAL(103,Marzo[8])","v":0},{"$f":"SUBTOTAL(103,Marzo[9])","v":0},{"$f":"SUBTOTAL(103,Marzo[10])","v":0},{"$f":"SUBTOTAL(103,Marzo[11])","v":0},{"$f":"SUBTOTAL(103,Marzo[12])","v":0},{"$f":"SUBTOTAL(103,Marzo[13])","v":0},{"$f":"SUBTOTAL(103,Marzo[14])","v":0},{"$f":"SUBTOTAL(103,Marzo[15])","v":0},{"$f":"SUBTOTAL(103,Marzo[16])","v":0},{"$f":"SUBTOTAL(103,Marzo[17])","v":0},{"$f":"SUBTOTAL(103,Marzo[18])","v":0},{"$f":"SUBTOTAL(103,Marzo[19])","v":0},{"$f":"SUBTOTAL(103,Marzo[20])","v":0},{"$f":"SUBTOTAL(103,Marzo[21])","v":0},{"$f":"SUBTOTAL(103,Marzo[22])","v":0},{"$f":"SUBTOTAL(103,Marzo[23])","v":0},{"$f":"SUBTOTAL(103,Marzo[24])","v":0},{"$f":"SUBTOTAL(103,Marzo[25])","v":0},{"$f":"SUBTOTAL(103,Marzo[26])","v":0},{"$f":"SUBTOTAL(103,Marzo[27])","v":0},{"$f":"SUBTOTAL(103,Marzo[28])","v":0},{"$f":"SUBTOTAL(103,Marzo[29])","v":0},{"$f":"SUBTOTAL(103,Marzo[30])","v":0},{"$f":"SUBTOTAL(103,Marzo[31])","v":0},{"$f":"SUBTOTAL(109,Marzo[Totale giorni])","v":0}]

{"sheet":"Aprile","index":3,"n_rows":59,"n_cols":39,"rows_kept":59,"merged":[[1,3,1,5],[1,7,1,9],[1,11,1,12],[1,14,1,16],[1,18,1,20],[3,2,3,32]]}
[null,{"$f":"Tabella_assenze_dipendenti","v":"Assenze dalle attività dei coristi"}]
[null,"Chiave tipo di assenza","A","Assente",null,null,"L","Assente Lavoro",null,null,"P","Presente",null,"M","Assente per malatia",{"$nulls":3},"Personalizzata 2"]
[]
[null,"Aprile","Date di assenza",{"$nulls":30},{"$f":"AnnoCalendario","v":2025}]
[null,null,{"$f":"TEXT(WEEKDAY(DATE(AnnoCalendario,4,1),1),\"ggg\")","v":"mar"},{"$f":"TEXT(WEEKDAY(DATE(AnnoCalendario,4,2),1),\"ggg\")","v":"mer"},{"$f":"TEXT(WEEKDAY(DATE(AnnoCalendario,4,3),1),\"ggg\")","v":"gio"},{"$f":"TEXT(WEEKDAY(DATE(AnnoCalendario,4,4),1),\"ggg\")","v":"ven"},{"$f":"TEXT(WEEKDAY(DATE(AnnoCalendario,4,5),1),\"ggg\")","v":"sab"},{"$f":"TEXT(WEEKDAY(DATE(AnnoCalendario,4,6),1),\"ggg\")","v":"dom"},{"$f":"TEXT(WEEKDAY(DATE(AnnoCalendario,4,7),1),\"ggg\")","v":"lun"},{"$f":"TEXT(WEEKDAY(DATE(AnnoCalendario,4,8),1),\"ggg\")","v":"mar"},{"$f":"TEXT(WEEKDAY(DATE(AnnoCalendario,4,9),1),\"ggg\")","v":"mer"},{"$f":"TEXT(WEEKDAY(DATE(AnnoCalendario,4,10),1),\"ggg\")","v":"gio"},{"$f":"TEXT(WEEKDAY(DATE(AnnoCalendario,4,11),1),\"ggg\")","v":"ven"},{"$f":"TEXT(WEEKDAY(DATE(AnnoCalendario,4,12),1),\"ggg\")","v":"sab"},{"$f":"TEXT(WEEKDAY(DATE(AnnoCalendario,4,13),1),\"ggg\")","v":"dom"},{"$f":"TEXT(WEEKDAY(DATE(AnnoCalendario,4,14),1),\"ggg\")","v":"lun"},{"$f":"TEXT(WEEKDAY(DATE(AnnoCalendario,4,15),1),\"ggg\")","v":"mar"},{"$f":"TEXT(WEEKDAY(DATE(AnnoCalendario,4,16),1),\"ggg\")","v":"mer"},{"$f":"TEXT(WEEKDAY(DATE(AnnoCalendario,4,17),1),\"ggg\")","v":"gio"},{"$f":"TEXT(WEEKDAY(DATE(AnnoCalendario,4,18),1),\"ggg\")","v":"ven"},{"$f":"TEXT(WEEKDAY(DATE(AnnoCalendario,4,19),1),\"ggg\")","v":"sab"},{"$f":"TEXT(WEEKDAY(DATE(AnnoCalendario,4,20),1),\"ggg\")","v":"dom"},{"$f":"TEXT(WEEKDAY(DATE(AnnoCalendario,4,21),1),\"ggg\")","v":"lun"},{"$f":"TEXT(WEEKDAY(DATE(AnnoCalendario,4,22),1),\"ggg\")","v":"mar"},{"$f":"TEXT(WEEKDAY(DATE(AnnoCalendario,4,23),1),\"ggg\")","v":"mer"},{"$f":"TEXT(WEEKDAY(DATE(AnnoCalendario,4,24),1),\"ggg\")","v":"gio"},{"$f":"TEXT(WEEKDAY(DATE(AnnoCalendario,4,25),1),\"ggg\")","v":"ven"},{"$f":"TEXT(WEEKDAY(DATE(AnnoCalendario,4,26),1),\"ggg\")","v":"sab"},{"$f":"TEXT(WEEKDAY(DATE(AnnoCalendario,4,27),1),\"ggg\")","v":"dom"},{"$f":"TEXT(WEEKDAY(DATE(AnnoCalendario,4,28),1),\"ggg\")","v":"lun"},{"$f":"TEXT(WEEKDAY(DATE(AnnoCalendario,4,29),1),\"ggg\")","v":"mar"},{"$f":"TEXT(WEEKDAY(DATE(AnnoCalendario,4,30),1),\"ggg\")","v":"mer"}]
[null,"Nome dipendente","1","2","3","4","5","6","7","8","9","10","11","12","13","14","15","16","17","18","19","20","21","22","23","24","25","26","27","28","29","30"," ","Totale giorni",null,"Assenze","Assenze per lavoro ","Presente","Assente per malattia"]
[null,"Ibba Raffaele",{"$nulls":31},{"$f":"COUNTA(Aprile[[#This Row],[1]:[30]])","v":0},null,{"$f":" COUNTIF(C7:AG7, \"*A*\")","v":0},{"$f":" COUNTIF(D7:AH7, \"*L*\")","v":0},{"$f":" COUNTIF(E7:AI7, \"*P*\")","v":0},{"$f":" COUNTIF(F7:AJ7, \"*M*\")","v":0}]
[null,"Chironi Claudio",{"$nulls":31},{"$f":"COUNTA(Aprile[[#This Row],[1]:[30]])","v":0},null,0,{"$f":" COUNTIF(D8:AH8, \"*L*\")","v":0},{"$f":" COUNTIF(E8:AI8, \"*P*\")","v":0},{"$f":" COUNTIF(F8:AJ8, \"*M*\")","v":0}]
[null,"Sedda Sandro",{"$nulls":31},{"$f":"COUNTA(Aprile[[#This Row],[1]:[30]])","v":0},null,{"$f":" COUNTIF(C9:AG9, \"*A*\")","v":0},0,0,0]
[null,"Sotgiu Alessandro",{"$nulls":31},{"$f":"COUNTA(Aprile[[#This Row],[1]:[30]])","v":0},null,{"$f":" COUNTIF(C10:AG10, \"*A*\")","v":0},0,0,0]
[null,"Lucianu Damiano",{"$nulls":31},{"$f":"COUNTA(Aprile[[#This Row],[1]:[30]])","v":0},null,0,0,0,0]
[null,"Tedde Paolo",{"$nulls":31},{"$f":"COUNTA(Aprile[[#This Row],[1]:[30]])","v":0},null,0,0,0,0]
[null,"Damu Marco",{"$nulls":31},{"$f":"COUNTA(Aprile[[#This Row],[1]:[30]])","v":0},null,0,0,0,0]
[null,"Carta Giovanni",{"$nulls":31},{"$f":"COUNTA(Aprile[[#This Row],[1]:[30]])","v":0},null,0,0,0,0]
[null,"Piras Francesco",{"$nulls":31},{"$f":"COUNTA(Aprile[[#This Row],[1]:[30]])","v":0},null,0,0,0,0]
[null,"Murru Pasquale",{"$nulls":31},{"$f":"COUNTA(Aprile[[#This Row],[1]:[30]])","v":0},null,0,0,0,0]
[null,"Tedde Giuseppe",{"$nulls":31},{"$f":"COUNTA(Aprile[[#This Row],[1]:[30]])","v":0},null,0,0,0,0]
[null,"Devilla Sergio",{"$nulls":31},{"$f":"COUNTA(Aprile[[#This Row],[1]:[30]])","v":0},null,0,0,0,0]
[null,"Gungui Francesco",{"$nulls":31},{"$f":"COUNTA(Aprile[[#This Row],[1]:[30]])","v":0},null,0,0,0,0]
[null,"Carta Antonio",{"$nulls":31},{"$f":"COUNTA(Aprile[[#This Row],[1]:[30]])","v":0},null,0,0,0,0]
[null,"Fois Luigi",{"$nulls":31},{"$f":"COUNTA(Aprile[[#This Row],[1]:[30]])","v":0},null,0,0,0,0]
[null,"Lai Pasquale",{"$nulls":31},{"$f":"COUNTA(Aprile[[#This Row],[1]:[30]])","v":0},null,0,0,0,0]
[null,"Carta Michele",{"$nulls":31},{"$f":"COUNTA(Aprile[[#This Row],[1]:[30]])","v":0},null,0,0,0,0]
[null,"Carta Filippo",{"$nulls":31},{"$f":"COUNTA(Aprile[[#This Row],[1]:[30]])","v":0},null,0,0,0,0]
[null,"Mariane Federico",{"$nulls":31},{"$f":"COUNTA(Aprile[[#This Row],[1]:[30]])","v":0},null,0,0,0,0]
[null,"Lai Salvatore",{"$nulls":31},{"$f":"COUNTA(Aprile[[#This Row],[1]:[30]])","v":0},null,0,0,0,0]
[null,"Ladu Giovanni",{"$nulls":31},{"$f":"COUNTA(Aprile[[#This Row],[1]:[30]])","v":0},null,0,0,0,0]
[null,"Piga Francesco",{"$nulls":31},{"$f":"COUNTA(Aprile[[#This Row],[1]:[30]])","v":0},null,0,0,0,0]
[null,"Porqueddu Matteo",{"$nulls":31},{"$f":"COUNTA(Aprile[[#This Row],[1]:[30]])","v":0},null,0,0,0,0]
[null,"Guiso Guido",{"$nulls":31},{"$f":"COUNTA(Aprile[[#This Row],[1]:[30]])","v":0},null,0,0,0,0]
[null,"Floris Mario",{"$nulls":31},{"$f":"COUNTA(Aprile[[#This Row],[1]:[30]])","v":0},null,0,0,0,0]
[null,"Floris Fabio",{"$nulls":31},{"$f":"COUNTA(Aprile[[#This Row],[1]:[30]])","v":0},null,0,0,0,0]
[{"$nulls":33},{"$f":"COUNTA(Aprile[[#This Row],[1]:[30]])","v":0},null,0,0,0,0]
[{"$nulls":33},{"$f":"COUNTA(Aprile[[#This Row],[1]:[30]])","v":0},null,0,0,0,0]
[{"$nulls":33},{"$f":"COUNTA(Aprile[[#This Row],[1]:[30]])","v":0},null,0,0,0,0]
[{"$nulls":33},{"$f":"COUNTA(Aprile[[#This Row],[1]:[30]])","v":0},null,0,0,0,0]
[{"$nulls":33},{"$f":"COUNTA(Aprile[[#This Row],[1]:[30]])","v":0},null,0,0,0,0]
[{"$nulls":33},{"$f":"COUNTA(Aprile[[#This Row],[1]:[30]])","v":0},null,0,0,0,0]
[{"$nulls":33},{"$f":"COUNTA(Aprile[[#This Row],[1]:[30]])","v":0},null,0,0,0,0]
[{"$nulls":33},{"$f":"COUNTA(Aprile[[#This Row],[1]:[30]])","v":0},null,0,0,0,0]
[{"$nulls":33},{"$f":"COUNTA(Aprile[[#This Row],[1]:[30]])","v":0},null,0,0,0,0]
[{"$nulls":33},{"$f":"COUNTA(Aprile[[#This Row],[1]:[30]])","v":0},null,0,0,0,0]
[{"$nulls":33},{"$f":"COUNTA(Aprile[[#This Row],[1]:[30]])","v":0},null,0,0,0,0]
[{"$nulls":33},{"$f":"COUNTA(Aprile[[#This Row],[1]:[30]])","v":0},null,0,0,0,0]
[{"$nulls":33},{"$f":"COUNTA(Aprile[[#This Row],[1]:[30]])","v":0},null,0,0,0,0]
[{"$nulls":33},{"$f":"COUNTA(Aprile[[#This Row],[1]:[30]])","v":0},null,0,0,0,0]
[{"$nulls":33},{"$f":"COUNTA(Aprile[[#This Row],[1]:[30]])","v":0},null,0,0,0,0]
[{"$nulls":33},{"$f":"COUNTA(Aprile[[#This Row],[1]:[30]])","v":0},null,0,0,0,0]
[{"$nulls":33},{"$f":"COUNTA(Aprile[[#This Row],[1]:[30]])","v":0},null,0,0,0,0]
[{"$nulls":33},{"$f":"COUNTA(Aprile[[#This Row],[1]:[30]])","v":0},null,0,0,0,0]
[{"$nulls":33},{"$f":"COUNTA(Aprile[[#This Row],[1]:[30]])","v":0},null,0,0,0,0]
[{"$nulls":33},{"$f":"COUNTA(Aprile[[#This Row],[1]:[30]])","v":0},null,0,0,0,0]
[{"$nulls":33},{"$f":"COUNTA(Aprile[[#This Row],[1]:[30]])","v":0},null,0,0,0,0]
[{"$nulls":33},{"$f":"COUNTA(Aprile[[#This Row],[1]:[30]])","v":0},null,0,0,0,0]
[{"$nulls":33},{"$f":"COUNTA(Aprile[[#This Row],[1]:[30]])","v":0},null,0,0,0,0]
[{"$nulls":33},{"$f":"COUNTA(Aprile[[#This Row],[1]:[30]])","v":0},null,0,0,0,0]
[{"$nulls":33},{"$f":"COUNTA(Aprile[[#This Row],[1]:[30]])","v":0},null,0,0,0,0]
[{"$nulls":33},{"$f":"COUNTA(Aprile[[#This Row],[1]:[30]])","v":0},null,0,0,0,0]
[null,{"$f":"\"Totale \"&NomeMese","v":"Totale Aprile"},{"$f":"SUBTOTAL(103,Aprile[1])","v":0},{"$f":"SUBTOTAL(103,Aprile[2])","v":0},{"$f":"SUBTOTAL(103,Aprile[3])","v":0},{"$f":"SUBTOTAL(103,Aprile[4])","v":0},{"$f":"SUBTOTAL(103,Aprile[5])","v":0},{"$f":"SUBTOTAL(103,Aprile[6])","v":0},{"$f":"SUBTOTAL(103,Aprile[7])","v":0},{"$f":"SUBTOTAL(103,Aprile[8])","v":0},{"$f":"SUBTOTAL(103,Aprile[9])","v":0},{"$f":"SUBTOTAL(103,Aprile[10])","v":0},{"$f":"SUBTOTAL(103,Aprile[11])","v":0},{"$f":"SUBTOTAL(103,Aprile[12])","v":0},{"$f":"SUBTOTAL(103,Aprile[13])","v":0},{"$f":"SUBTOTAL(103,Aprile[14])","v":0},{"$f":"SUBTOTAL(103,Aprile[15])","v":0},{"$f":"SUBTOTAL(103,Aprile[16])","v":0},{"$f":"SUBTOTAL(103,Aprile[17])","v":0},{"$f":"SUBTOTAL(103,Aprile[18])","v":0},{"$f":"SUBTOTAL(103,Aprile[19])","v":0},{"$f":"SUBTOTAL(103,Aprile[20])","v":0},{"$f":"SUBTOTAL(103,Aprile[21])","v":0},{"$f":"SUBTOTAL(103,Aprile[22])","v":0},{"$f":"SUBTOTAL(103,Aprile[23])","v":0},{"$f":"SUBTOTAL(103,Aprile[24])","v":0},{"$f":"SUBTOTAL(103,Aprile[25])","v":0},{"$f":"SUBTOTAL(103,Aprile[26])","v":0},{"$f":"SUBTOTAL(103,Aprile[27])","v":0},{"$f":"SUBTOTAL(103,Aprile[28])","v":0},{"$f":"SUBTOTAL(103,Aprile[29])","v":0},{"$f":"SUBTOTAL(103,Aprile[30])","v":0},{"$f":"SUBTOTAL(103,Aprile[30])","v":0},{"$f":"SUBTOTAL(109,Aprile[Totale giorni])","v":0}]

{"sheet":"Maggio","index":4,"n_rows":59,"n_cols":39,"rows_kept":59,"merged":[[1,3,1,5],[1,7,1,9],[1,11,1,12],[1,14,1,16],[1,18,1,20],[3,2,3,32]]}
[null,{"$f":"Tabella_assenze_dipendenti","v":"Assenze dalle attività dei coristi"}]
[null,"Chiave tipo di assenza","A","Assente",null,null,"L","Assente Lavoro",null,null,"P","Presente",null,"M","Assente per malatia",{"$nulls":3},"Personalizzata 2"]
[]
[null,"Maggio","Date di assenza",{"$nulls":30},{"$f":"AnnoCalendario","v":2025}]
[null,null,{"$f":"TEXT(WEEKDAY(DATE(AnnoCalendario,5,1),1),\"ggg\")","v":"gio"},{"$f":"TEXT(WEEKDAY(DATE(AnnoCalendario,5,2),1),\"ggg\")","v":"ven"},{"$f":"TEXT(WEEKDAY(DATE(AnnoCalendario,5,3),1),\"ggg\")","v":"sab"},{"$f":"TEXT(WEEKDAY(DATE(AnnoCalendario,5,4),1),\"ggg\")","v":"dom"},{"$f":"TEXT(WEEKDAY(DATE(AnnoCalendario,5,5),1),\"ggg\")","v":"lun"},{"$f":"TEXT(WEEKDAY(DATE(AnnoCalendario,5,6),1),\"ggg\")","v":"mar"},{"$f":"TEXT(WEEKDAY(DATE(AnnoCalendario,5,7),1),\"ggg\")","v":"mer"},{"$f":"TEXT(WEEKDAY(DATE(AnnoCalendario,5,8),1),\"ggg\")","v":"gio"},{"$f":"TEXT(WEEKDAY(DATE(AnnoCalendario,5,9),1),\"ggg\")","v":"ven"},{"$f":"TEXT(WEEKDAY(DATE(AnnoCalendario,5,10),1),\"ggg\")","v":"sab"},{"$f":"TEXT(WEEKDAY(DATE(AnnoCalendario,5,11),1),\"ggg\")","v":"dom"},{"$f":"TEXT(WEEKDAY(DATE(AnnoCalendario,5,12),1),\"ggg\")","v":"lun"},{"$f":"TEXT(WEEKDAY(DATE(AnnoCalendario,5,13),1),\"ggg\")","v":"mar"},{"$f":"TEXT(WEEKDAY(DATE(AnnoCalendario,5,14),1),\"ggg\")","v":"mer"},{"$f":"TEXT(WEEKDAY(DATE(AnnoCalendario,5,15),1),\"ggg\")","v":"gio"},{"$f":"TEXT(WEEKDAY(DATE(AnnoCalendario,5,16),1),\"ggg\")","v":"ven"},{"$f":"TEXT(WEEKDAY(DATE(AnnoCalendario,5,17),1),\"ggg\")","v":"sab"},{"$f":"TEXT(WEEKDAY(DATE(AnnoCalendario,5,18),1),\"ggg\")","v":"dom"},{"$f":"TEXT(WEEKDAY(DATE(AnnoCalendario,5,19),1),\"ggg\")","v":"lun"},{"$f":"TEXT(WEEKDAY(DATE(AnnoCalendario,5,20),1),\"ggg\")","v":"mar"},{"$f":"TEXT(WEEKDAY(DATE(AnnoCalendario,5,21),1),\"ggg\")","v":"mer"},{"$f":"TEXT(WEEKDAY(DATE(AnnoCalendario,5,22),1),\"ggg\")","v":"gio"},{"$f":"TEXT(WEEKDAY(DATE(AnnoCalendario,5,23),1),\"ggg\")","v":"ven"},{"$f":"TEXT(WEEKDAY(DATE(AnnoCalendario,5,24),1),\"ggg\")","v":"sab"},{"$f":"TEXT(WEEKDAY(DATE(AnnoCalendario,5,25),1),\"ggg\")","v":"dom"},{"$f":"TEXT(WEEKDAY(DATE(AnnoCalendario,5,26),1),\"ggg\")","v":"lun"},{"$f":"TEXT(WEEKDAY(DATE(AnnoCalendario,5,27),1),\"ggg\")","v":"mar"},{"$f":"TEXT(WEEKDAY(DATE(AnnoCalendario,5,28),1),\"ggg\")","v":"mer"},{"$f":"TEXT(WEEKDAY(DATE(AnnoCalendario,5,29),1),\"ggg\")","v":"gio"},{"$f":"TEXT(WEEKDAY(DATE(AnnoCalendario,5,30),1),\"ggg\")","v":"ven"},{"$f":"TEXT(WEEKDAY(DATE(AnnoCalendario,5,31),1),\"ggg\")","v":"sab"}]
[null,"Nome corista","1","2","3","4","5","6","7","8","9","10","11","12","13","14","15","16","17","18","19","20","21","22","23","24","25","26","27","28","29","30","31","Totale giorni",null,"Assenze","Assenze per lavoro ","Presente","Assente per malattia"]
[null,"Ibba Raffaele",{"$nulls":31},{"$f":"COUNTA(Maggio[[#This Row],[1]:[31]])","v":0},null,{"$f":" COUNTIF(C7:AG7, \"*A*\")","v":0},{"$f":" COUNTIF(D7:AH7, \"*L*\")","v":0},{"$f":" COUNTIF(E7:AI7, \"*P*\")","v":0},{"$f":" COUNTIF(F7:AJ7, \"*M*\")","v":0}]
[null,"Chironi Claudio",{"$nulls":31},{"$f":"COUNTA(Maggio[[#This Row],[1]:[31]])","v":0},null,0,{"$f":" COUNTIF(D8:AH8, \"*L*\")","v":0},{"$f":" COUNTIF(E8:AI8, \"*P*\")","v":0},{"$f":" COUNTIF(F8:AJ8, \"*M*\")","v":0}]
[null,"Sedda Sandro",{"$nulls":31},{"$f":"COUNTA(Maggio[[#This Row],[1]:[31]])","v":0},null,{"$f":" COUNTIF(C9:AG9, \"*A*\")","v":0},0,0,0]
[null,"Sotgiu Alessandro",{"$nulls":31},{"$f":"COUNTA(Maggio[[#This Row],[1]:[31]])","v":0},null,{"$f":" COUNTIF(C10:AG10, \"*A*\")","v":0},0,0,0]
[null,"Lucianu Damiano",{"$nulls":31},{"$f":"COUNTA(Maggio[[#This Row],[1]:[31]])","v":0},null,0,0,0,0]
[null,"Tedde Paolo",{"$nulls":31},{"$f":"COUNTA(Maggio[[#This Row],[1]:[31]])","v":0},null,0,0,0,0]
[null,"Damu Marco",{"$nulls":31},{"$f":"COUNTA(Maggio[[#This Row],[1]:[31]])","v":0},null,0,0,0,0]
[null,"Carta Giovanni",{"$nulls":31},{"$f":"COUNTA(Maggio[[#This Row],[1]:[31]])","v":0},null,0,0,0,0]
[null,"Piras Francesco",{"$nulls":31},{"$f":"COUNTA(Maggio[[#This Row],[1]:[31]])","v":0},null,0,0,0,0]
[null,"Murru Pasquale",{"$nulls":31},{"$f":"COUNTA(Maggio[[#This Row],[1]:[31]])","v":0},null,0,0,0,0]
[null,"Tedde Giuseppe",{"$nulls":31},{"$f":"COUNTA(Maggio[[#This Row],[1]:[31]])","v":0},null,0,0,0,0]
[null,"Devilla Sergio",{"$nulls":31},{"$f":"COUNTA(Maggio[[#This Row],[1]:[31]])","v":0},null,0,0,0,0]
[null,"Gungui Francesco",{"$nulls":31},{"$f":"COUNTA(Maggio[[#This Row],[1]:[31]])","v":0},null,0,0,0,0]
[null,"Carta Antonio",{"$nulls":31},{"$f":"COUNTA(Maggio[[#This Row],[1]:[31]])","v":0},null,0,0,0,0]
[null,"Fois Luigi",{"$nulls":31},{"$f":"COUNTA(Maggio[[#This Row],[1]:[31]])","v":0},null,0,0,0,0]
[null,"Lai Pasquale",{"$nulls":31},{"$f":"COUNTA(Maggio[[#This Row],[1]:[31]])","v":0},null,0,0,0,0]
[null,"Carta Michele",{"$nulls":31},{"$f":"COUNTA(Maggio[[#This Row],[1]:[31]])","v":0},null,0,0,0,0]
[null,"Carta Filippo",{"$nulls":31},{"$f":"COUNTA(Maggio[[#This Row],[1]:[31]])","v":0},null,0,0,0,0]
[null,"Mariane Federico",{"$nulls":31},{"$f":"COUNTA(Maggio[[#This Row],[1]:[31]])","v":0},null,0,0,0,0]
[null,"Lai Salvatore",{"$nulls":31},{"$f":"COUNTA(Maggio[[#This Row],[1]:[31]])","v":0},null,0,0,0,0]
[null,"Ladu Giovanni",{"$nulls":31},{"$f":"COUNTA(Maggio[[#This Row],[1]:[31]])","v":0},null,0,0,0,0]
[null,"Piga Francesco",{"$nulls":31},{"$f":"COUNTA(Maggio[[#This Row],[1]:[31]])","v":0},null,0,0,0,0]
[null,"Porqueddu Matteo",{"$nulls":31},{"$f":"COUNTA(Maggio[[#This Row],[1]:[31]])","v":0},null,0,0,0,0]
[null,"Guiso Guido",{"$nulls":31},{"$f":"COUNTA(Maggio[[#This Row],[1]:[31]])","v":0},null,0,0,0,0]
[null,"Floris Mario",{"$nulls":31},{"$f":"COUNTA(Maggio[[#This Row],[1]:[31]])","v":0},null,0,0,0,0]
[null,"Floris Fabio",{"$nulls":31},{"$f":"COUNTA(Maggio[[#This Row],[1]:[31]])","v":0},null,0,0,0,0]
[{"$nulls":33},{"$f":"COUNTA(Maggio[[#This Row],[1]:[31]])","v":0},null,0,0,0,0]
[{"$nulls":33},{"$f":"COUNTA(Maggio[[#This Row],[1]:[31]])","v":0},null,0,0,0,0]
[{"$nulls":33},{"$f":"COUNTA(Maggio[[#This Row],[1]:[31]])","v":0},null,0,0,0,0]
[{"$nulls":33},{"$f":"COUNTA(Maggio[[#This Row],[1]:[31]])","v":0},null,0,0,0,0]
[{"$nulls":33},{"$f":"COUNTA(Maggio[[#This Row],[1]:[31]])","v":0},null,0,0,0,0]
[{"$nulls":33},{"$f":"COUNTA(Maggio[[#This Row],[1]:[31]])","v":0},null,0,0,0,0]
[{"$nulls":33},{"$f":"COUNTA(Maggio[[#This Row],[1]:[31]])","v":0},null,0,0,0,0]
[{"$nulls":33},{"$f":"COUNTA(Maggio[[#This Row],[1]:[31]])","v":0},null,0,0,0,0]
[{"$nulls":33},{"$f":"COUNTA(Maggio[[#This Row],[1]:[31]])","v":0},null,0,0,0,0]
[{"$nulls":33},{"$f":"COUNTA(Maggio[[#This Row],[1]:[31]])","v":0},null,0,0,0,0]
[{"$nulls":33},{"$f":"COUNTA(Maggio[[#This Row],[1]:[31]])","v":0},null,0,0,0,0]
[{"$nulls":33},{"$f":"COUNTA(Maggio[[#This Row],[1]:[31]])","v":0},null,0,0,0,0]
[{"$nulls":33},{"$f":"COUNTA(Maggio[[#This Row],[1]:[31]])","v":0},null,0,0,0,0]
[{"$nulls":33},{"$f":"COUNTA(Maggio[[#This Row],[1]:[31]])","v":0},null,0,0,0,0]
[{"$nulls":33},{"$f":"COUNTA(Maggio[[#This Row],[1]:[31]])","v":0},null,0,0,0,0]
[{"$nulls":33},{"$f":"COUNTA(Maggio[[#This Row],[1]:[31]])","v":0},null,0,0,0,0]
[{"$nulls":33},{"$f":"COUNTA(Maggio[[#This Row],[1]:[31]])","v":0},null,0,0,0,0]
[{"$nulls":33},{"$f":"COUNTA(Maggio[[#This Row],[1]:[31]])","v":0},null,0,0,0,0]
[{"$nulls":33},{"$f":"COUNTA(Maggio[[#This Row],[1]:[31]])","v":0},null,0,0,0,0]
[{"$nulls":33},{"$f":"COUNTA(Maggio[[#This Row],[1]:[31]])","v":0},null,0,0,0,0]
[{"$nulls":33},{"$f":"COUNTA(Maggio[[#This Row],[1]:[31]])","v":0},null,0,0,0,0]
[{"$nulls":33},{"$f":"COUNTA(Maggio[[#This Row],[1]:[31]])","v":0},null,0,0,0,0]
[{"$nulls":33},{"$f":"COUNTA(Maggio[[#This Row],[1]:[31]])","v":0},null,0,0,0,0]
[{"$nulls":33},{"$f":"COUNTA(Maggio[[#This Row],[1]:[31]])","v":0},null,0,0,0,0]
[{"$nulls":33},{"$f":"COUNTA(Maggio[[#This Row],[1]:[31]])","v":0},null,0,0,0,0]
[{"$nulls":33},{"$f":"COUNTA(Maggio[[#This Row],[1]:[31]])","v":0},null,0,0,0,0]
[null,{"$f":"\"Totale \"&NomeMese","v":"Totale Maggio"},{"$f":"SUBTOTAL(103,Maggio[1])","v":0},{"$f":"SUBTOTAL(103,Maggio[2])","v":0},{"$f":"SUBTOTAL(103,Maggio[3])","v":0},{"$f":"SUBTOTAL(103,Maggio[4])","v":0},{"$f":"SUBTOTAL(103,Maggio[5])","v":0},{"$f":"SUBTOTAL(103,Maggio[6])","v":0},{"$f":"SUBTOTAL(103,Maggio[7])","v":0},{"$f":"SUBTOTAL(103,Maggio[8])","v":0},{"$f":"SUBTOTAL(103,Maggio[9])","v":0},{"$f":"SUBTOTAL(103,Maggio[10])","v":0},{"$f":"SUBTOTAL(103,Maggio[11])","v":0},{"$f":"SUBTOTAL(103,Maggio[12])","v":0},{"$f":"SUBTOTAL(103,Maggio[13])","v":0},{"$f":"SUBTOTAL(103,Maggio[14])","v":0},{"$f":"SUBTOTAL(103,Maggio[15])","v":0},{"$f":"SUBTOTAL(103,Maggio[16])","v":0},{"$f":"SUBTOTAL(103,Maggio[17])","v":0},{"$f":"SUBTOTAL(103,Maggio[18])","v":0},{"$f":"SUBTOTAL(103,Maggio[19])","v":0},{"$f":"SUBTOTAL(103,Maggio[20])","v":0},{"$f":"SUBTOTAL(103,Maggio[21])","v":0},{"$f":"SUBTOTAL(103,Maggio[22])","v":0},{"$f":"SUBTOTAL(103,Maggio[23])","v":0},{"$f":"SUBTOTAL(103,Maggio[24])","v":0},{"$f":"SUBTOTAL(103,Maggio[25])","v":0},{"$f":"SUBTOTAL(103,Maggio[26])","v":0},{"$f":"SUBTOTAL(103,Maggio[27])","v":0},{"$f":"SUBTOTAL(103,Maggio[28])","v":0},{"$f":"SUBTOTAL(103,Maggio[29])","v":0},{"$f":"SUBTOTAL(103,Maggio[30])","v":0},{"$f":"SUBTOTAL(103,Maggio[31])","v":0},{"$f":"SUBTOTAL(109,Maggio[Totale giorni])","v":0}]

{"sheet":"Giugno","index":5,"n_rows":59,"n_cols":39,"rows_kept":59,"merged":[[1,3,1,5],[1,7,1,9],[1,11,1,12],[1,14,1,16],[1,18,1,20],[3,2,3,32]]}
[null,{"$f":"Tabella_assenze_dipendenti","v":"Assenze dalle attività dei coristi"}]
[null,"Chiave tipo di assenza","A","Assente",null,null,"L","Assente Lavoro",null,null,"P","Presente",null,"M","Assente per malatia",{"$nulls":3},"Personalizzata 2"]
[]
[null,"Giugno","Date di assenza",{"$nulls":30},{"$f":"AnnoCalendario","v":2025}]
[null,null,{"$f":"TEXT(WEEKDAY(DATE(AnnoCalendario,6,1),1),\"ggg\")","v":"dom"},{"$f":"TEXT(WEEKDAY(DATE(AnnoCalendario,6,2),1),\"ggg\")","v":"lun"},{"$f":"TEXT(WEEKDAY(DATE(AnnoCalendario,6,3),1),\"ggg\")","v":"mar"},{"$f":"TEXT(WEEKDAY(DATE(AnnoCalendario,6,4),1),\"ggg\")","v":"mer"},{"$f":"TEXT(WEEKDAY(DATE(AnnoCalendario,6,5),1),\"ggg\")","v":"gio"},{"$f":"TEXT(WEEKDAY(DATE(AnnoCalendario,6,6),1),\"ggg\")","v":"ven"},{"$f":"TEXT(WEEKDAY(DATE(AnnoCalendario,6,7),1),\"ggg\")","v":"sab"},{"$f":"TEXT(WEEKDAY(DATE(AnnoCalendario,6,8),1),\"ggg\")","v":"dom"},{"$f":"TEXT(WEEKDAY(DATE(AnnoCalendario,6,9),1),\"ggg\")","v":"lun"},{"$f":"TEXT(WEEKDAY(DATE(AnnoCalendario,6,10),1),\"ggg\")","v":"mar"},{"$f":"TEXT(WEEKDAY(DATE(AnnoCalendario,6,11),1),\"ggg\")","v":"mer"},{"$f":"TEXT(WEEKDAY(DATE(AnnoCalendario,6,12),1),\"ggg\")","v":"gio"},{"$f":"TEXT(WEEKDAY(DATE(AnnoCalendario,6,13),1),\"ggg\")","v":"ven"},{"$f":"TEXT(WEEKDAY(DATE(AnnoCalendario,6,14),1),\"ggg\")","v":"sab"},{"$f":"TEXT(WEEKDAY(DATE(AnnoCalendario,6,15),1),\"ggg\")","v":"dom"},{"$f":"TEXT(WEEKDAY(DATE(AnnoCalendario,6,16),1),\"ggg\")","v":"lun"},{"$f":"TEXT(WEEKDAY(DATE(AnnoCalendario,6,17),1),\"ggg\")","v":"mar"},{"$f":"TEXT(WEEKDAY(DATE(AnnoCalendario,6,18),1),\"ggg\")","v":"mer"},{"$f":"TEXT(WEEKDAY(DATE(AnnoCalendario,6,19),1),\"ggg\")","v":"gio"},{"$f":"TEXT(WEEKDAY(DATE(AnnoCalendario,6,20),1),\"ggg\")","v":"ven"},{"$f":"TEXT(WEEKDAY(DATE(AnnoCalendario,6,21),1),\"ggg\")","v":"sab"},{"$f":"TEXT(WEEKDAY(DATE(AnnoCalendario,6,22),1),\"ggg\")","v":"dom"},{"$f":"TEXT(WEEKDAY(DATE(AnnoCalendario,6,23),1),\"ggg\")","v":"lun"},{"$f":"TEXT(WEEKDAY(DATE(AnnoCalendario,6,24),1),\"ggg\")","v":"mar"},{"$f":"TEXT(WEEKDAY(DATE(AnnoCalendario,6,25),1),\"ggg\")","v":"mer"},{"$f":"TEXT(WEEKDAY(DATE(AnnoCalendario,6,26),1),\"ggg\")","v":"gio"},{"$f":"TEXT(WEEKDAY(DATE(AnnoCalendario,6,27),1),\"ggg\")","v":"ven"},{"$f":"TEXT(WEEKDAY(DATE(AnnoCalendario,6,28),1),\"ggg\")","v":"sab"},{"$f":"TEXT(WEEKDAY(DATE(AnnoCalendario,6,29),1),\"ggg\")","v":"dom"},{"$f":"TEXT(WEEKDAY(DATE(AnnoCalendario,6,30),1),\"ggg\")","v":"lun"}]
[null,"Nome dipendente","1","2","3","4","5","6","7","8","9","10","11","12","13","14","15","16","17","18","19","20","21","22","23","24","25","26","27","28","29","30"," ","Totale giorni",null,"Assenze","Assenze per lavoro ","Presente","Assente per malattia"]
[null,"Ibba Raffaele",{"$nulls":31},{"$f":"COUNTA(Giugno[[#This Row],[1]:[30]])","v":0},null,{"$f":" COUNTIF(C7:AG7, \"*A*\")","v":0},{"$f":" COUNTIF(D7:AH7, \"*L*\")","v":0},{"$f":" COUNTIF(E7:AI7, \"*P*\")","v":0},{"$f":" COUNTIF(F7:AJ7, \"*M*\")","v":0}]
[null,"Chironi Claudio",{"$nulls":31},{"$f":"COUNTA(Giugno[[#This Row],[1]:[30]])","v":0},null,0,{"$f":" COUNTIF(D8:AH8, \"*L*\")","v":0},{"$f":" COUNTIF(E8:AI8, \"*P*\")","v":0},{"$f":" COUNTIF(F8:AJ8, \"*M*\")","v":0}]
[null,"Sedda Sandro",{"$nulls":31},{"$f":"COUNTA(Giugno[[#This Row],[1]:[30]])","v":0},null,{"$f":" COUNTIF(C9:AG9, \"*A*\")","v":0},0,0,0]
[null,"Sotgiu Alessandro",{"$nulls":31},{"$f":"COUNTA(Giugno[[#This Row],[1]:[30]])","v":0},null,{"$f":" COUNTIF(C10:AG10, \"*A*\")","v":0},0,0,0]
[null,"Lucianu Damiano",{"$nulls":31},{"$f":"COUNTA(Giugno[[#This Row],[1]:[30]])","v":0},null,0,0,0,0]
[null,"Tedde Paolo",{"$nulls":31},{"$f":"COUNTA(Giugno[[#This Row],[1]:[30]])","v":0},null,0,0,0,0]
[null,"Damu Marco",{"$nulls":31},{"$f":"COUNTA(Giugno[[#This Row],[1]:[30]])","v":0},null,0,0,0,0]
[null,"Carta Giovanni",{"$nulls":31},{"$f":"COUNTA(Giugno[[#This Row],[1]:[30]])","v":0},null,0,0,0,0]
[null,"Piras Francesco",{"$nulls":31},{"$f":"COUNTA(Giugno[[#This Row],[1]:[30]])","v":0},null,0,0,0,0]
[null,"Murru Pasquale",{"$nulls":31},{"$f":"COUNTA(Giugno[[#This Row],[1]:[30]])","v":0},null,0,0,0,0]
[null,"Tedde Giuseppe",{"$nulls":31},{"$f":"COUNTA(Giugno[[#This Row],[1]:[30]])","v":0},null,0,0,0,0]
[null,"Devilla Sergio",{"$nulls":31},{"$f":"COUNTA(Giugno[[#This Row],[1]:[30]])","v":0},null,0,0,0,0]
[null,"Gungui Francesco",{"$nulls":31},{"$f":"COUNTA(Giugno[[#This Row],[1]:[30]])","v":0},null,0,0,0,0]
[null,"Carta Antonio",{"$nulls":31},{"$f":"COUNTA(Giugno[[#This Row],[1]:[30]])","v":0},null,0,0,0,0]
[null,"Fois Luigi",{"$nulls":31},{"$f":"COUNTA(Giugno[[#This Row],[1]:[30]])","v":0},null,0,0,0,0]
[null,"Lai Pasquale",{"$nulls":31},{"$f":"COUNTA(Giugno[[#This Row],[1]:[30]])","v":0},null,0,0,0,0]
[null,"Carta Michele",{"$nulls":31},{"$f":"COUNTA(Giugno[[#This Row],[1]:[30]])","v":0},null,0,0,0,0]
[null,"Carta Filippo",{"$nulls":31},{"$f":"COUNTA(Giugno[[#This Row],[1]:[30]])","v":0},null,0,0,0,0]
[null,"Mariane Federico",{"$nulls":31},{"$f":"COUNTA(Giugno[[#This Row],[1]:[30]])","v":0},null,0,0,0,0]
[null,"Lai Salvatore",{"$nulls":31},{"$f":"COUNTA(Giugno[[#This Row],[1]:[30]])","v":0},null,0,0,0,0]
[null,"Ladu Giovanni",{"$nulls":31},{"$f":"COUNTA(Giugno[[#This Row],[1]:[30]])","v":0},null,0,0,0,0]
[null,"Piga Francesco",{"$nulls":31},{"$f":"COUNTA(Giugno[[#This Row],[1]:[30]])","v":0},null,0,0,0,0]
[null,"Porqueddu Matteo",{"$nulls":31},{"$f":"COUNTA(Giugno[[#This Row],[1]:[30]])","v":0},null,0,0,0,0]
[null,"Guiso Guido",{"$nulls":31},{"$f":"COUNTA(Giugno[[#This Row],[1]:[30]])","v":0},null,0,0,0,0]
[null,"Floris Mario",{"$nulls":31},{"$f":"COUNTA(Giugno[[#This Row],[1]:[30]])","v":0},null,0,0,0,0]
[null,"Floris Fabio",{"$nulls":31},{"$f":"COUNTA(Giugno[[#This Row],[1]:[30]])","v":0},null,0,0,0,0]
[{"$nulls":33},{"$f":"COUNTA(Giugno[[#This Row],[1]:[30]])","v":0},null,0,0,0,0]
[{"$nulls":33},{"$f":"COUNTA(Giugno[[#This Row],[1]:[30]])","v":0},null,0,0,0,0]
[{"$nulls":33},{"$f":"COUNTA(Giugno[[#This Row],[1]:[30]])","v":0},null,0,0,0,0]
[{"$nulls":33},{"$f":"COUNTA(Giugno[[#This Row],[1]:[30]])","v":0},null,0,0,0,0]
[{"$nulls":33},{"$f":"COUNTA(Giugno[[#This Row],[1]:[30]])","v":0},null,0,0,0,0]
[{"$nulls":33},{"$f":"COUNTA(Giugno[[#This Row],[1]:[30]])","v":0},null,0,0,0,0]
[{"$nulls":33},{"$f":"COUNTA(Giugno[[#This Row],[1]:[30]])","v":0},null,0,0,0,0]
[{"$nulls":33},{"$f":"COUNTA(Giugno[[#This Row],[1]:[30]])","v":0},null,0,0,0,0]
[{"$nulls":33},{"$f":"COUNTA(Giugno[[#This Row],[1]:[30]])","v":0},null,0,0,0,0]
[{"$nulls":33},{"$f":"COUNTA(Giugno[[#This Row],[1]:[30]])","v":0},null,0,0,0,0]
[{"$nulls":33},{"$f":"COUNTA(Giugno[[#This Row],[1]:[30]])","v":0},null,0,0,0,0]
[{"$nulls":33},{"$f":"COUNTA(Giugno[[#This Row],[1]:[30]])","v":0},null,0,0,0,0]
[{"$nulls":33},{"$f":"COUNTA(Giugno[[#This Row],[1]:[30]])","v":0},null,0,0,0,0]
[{"$nulls":33},{"$f":"COUNTA(Giugno[[#This Row],[1]:[30]])","v":0},null,0,0,0,0]
[{"$nulls":33},{"$f":"COUNTA(Giugno[[#This Row],[1]:[30]])","v":0},null,0,0,0,0]
[{"$nulls":33},{"$f":"COUNTA(Giugno[[#This Row],[1]:[30]])","v":0},null,0,0,0,0]
[{"$nulls":33},{"$f":"COUNTA(Giugno[[#This Row],[1]:[30]])","v":0},null,0,0,0,0]
[{"$nulls":33},{"$f":"COUNTA(Giugno[[#This Row],[1]:[30]])","v":0},null,0,0,0,0]
[{"$nulls":33},{"$f":"COUNTA(Giugno[[#This Row],[1]:[30]])","v":0},null,0,0,0,0]
[{"$nulls":33},{"$f":"COUNTA(Giugno[[#This Row],[1]:[30]])","v":0},null,0,0,0,0]
[{"$nulls":33},{"$f":"COUNTA(Giugno[[#This Row],[1]:[30]])","v":0},null,0,0,0,0]
[{"$nulls":33},{"$f":"COUNTA(Giugno[[#This Row],[1]:[30]])","v":0},null,0,0,0,0]
[{"$nulls":33},{"$f":"COUNTA(Giugno[[#This Row],[1]:[30]])","v":0},null,0,0,0,0]
[{"$nulls":33},{"$f":"COUNTA(Giugno[[#This Row],[1]:[30]])","v":0},null,0,0,0,0]
[{"$nulls":33},{"$f":"COUNTA(Giugno[[#This Row],[1]:[30]])","v":0},null,0,0,0,0]
[{"$nulls":33},{"$f":"COUNTA(Giugno[[#This Row],[1]:[30]])","v":0},null,0,0,0,0]
[null,{"$f":"\"Totale \"&NomeMese","v":"Totale Giugno"},{"$f":"SUBTOTAL(103,Giugno[1])","v":0},{"$f":"SUBTOTAL(103,Giugno[2])","v":0},{"$f":"SUBTOTAL(103,Giugno[3])","v":0},{"$f":"SUBTOTAL(103,Giugno[4])","v":0},{"$f":"SUBTOTAL(103,Giugno[5])","v":0},{"$f":"SUBTOTAL(103,Giugno[6])","v":0},{"$f":"SUBTOTAL(103,Giugno[7])","v":0},{"$f":"SUBTOTAL(103,Giugno[8])","v":0},{"$f":"SUBTOTAL(103,Giugno[9])","v":0},{"$f":"SUBTOTAL(103,Giugno[10])","v":0},{"$f":"SUBTOTAL(103,Giugno[11])","v":0},{"$f":"SUBTOTAL(103,Giugno[12])","v":0},{"$f":"SUBTOTAL(103,Giugno[13])","v":0},{"$f":"SUBTOTAL(103,Giugno[14])","v":0},{"$f":"SUBTOTAL(103,Giugno[15])","v":0},{"$f":"SUBTOTAL(103,Giugno[16])","v":0},{"$f":"SUBTOTAL(103,Giugno[17])","v":0},{"$f":"SUBTOTAL(103,Giugno[18])","v":0},{"$f":"SUBTOTAL(103,Giugno[19])","v":0},{"$f":"SUBTOTAL(103,Giugno[20])","v":0},{"$f":"SUBTOTAL(103,Giugno[21])","v":0},{"$f":"SUBTOTAL(103,Giugno[22])","v":0},{"$f":"SUBTOTAL(103,Giugno[23])","v":0},{"$f":"SUBTOTAL(103,Giugno[24])","v":0},{"$f":"SUBTOTAL(103,Giugno[25])","v":0},{"$f":"SUBTOTAL(103,Giugno[26])","v":0},{"$f":"SUBTOTAL(103,Giugno[27])","v":0},{"$f":"SUBTOTAL(103,Giugno[28])","v":0},{"$f":"SUBTOTAL(103,Giugno[29])","v":0},{"$f":"SUBTOTAL(103,Giugno[30])","v":0},{"$f":"SUBTOTAL(103,Giugno[[ ]])","v":0},{"$f":"SUBTOTAL(109,Giugno[Totale giorni])","v":0}]

{"sheet":"Luglio","index":6,"n_rows":59,"n_cols":39,"rows_kept":59,"merged":[[1,3,1,5],[1,7,1,9],[1,11,1,12],[1,14,1,16],[1,18,1,20],[3,2,3,32]]}
[null,{"$f":"Tabella_assenze_dipendenti","v":"Assenze dalle attività dei coristi"}]
[null,"Chiave tipo di assenza","A","Assente",null,null,"L","Assente Lavoro",null,null,"P","Presente",null,"M","Assente per malatia",{"$nulls":3},"Personalizzata 2"]
[]
[null,"Luglio","Date di assenza",{"$nulls":30},{"$f":"AnnoCalendario","v":2025}]
[null,null,{"$f":"TEXT(WEEKDAY(DATE(AnnoCalendario,7,1),1),\"ggg\")","v":"mar"},{"$f":"TEXT(WEEKDAY(DATE(AnnoCalendario,7,2),1),\"ggg\")","v":"mer"},{"$f":"TEXT(WEEKDAY(DATE(AnnoCalendario,7,3),1),\"ggg\")","v":"gio"},{"$f":"TEXT(WEEKDAY(DATE(AnnoCalendario,7,4),1),\"ggg\")","v":"ven"},{"$f":"TEXT(WEEKDAY(DATE(AnnoCalendario,7,5),1),\"ggg\")","v":"sab"},{"$f":"TEXT(WEEKDAY(DATE(AnnoCalendario,7,6),1),\"ggg\")","v":"dom"},{"$f":"TEXT(WEEKDAY(DATE(AnnoCalendario,7,7),1),\"ggg\")","v":"lun"},{"$f":"TEXT(WEEKDAY(DATE(AnnoCalendario,7,8),1),\"ggg\")","v":"mar"},{"$f":"TEXT(WEEKDAY(DATE(AnnoCalendario,7,9),1),\"ggg\")","v":"mer"},{"$f":"TEXT(WEEKDAY(DATE(AnnoCalendario,7,10),1),\"ggg\")","v":"gio"},{"$f":"TEXT(WEEKDAY(DATE(AnnoCalendario,7,11),1),\"ggg\")","v":"ven"},{"$f":"TEXT(WEEKDAY(DATE(AnnoCalendario,7,12),1),\"ggg\")","v":"sab"},{"$f":"TEXT(WEEKDAY(DATE(AnnoCalendario,7,13),1),\"ggg\")","v":"dom"},{"$f":"TEXT(WEEKDAY(DATE(AnnoCalendario,7,14),1),\"ggg\")","v":"lun"},{"$f":"TEXT(WEEKDAY(DATE(AnnoCalendario,7,15),1),\"ggg\")","v":"mar"},{"$f":"TEXT(WEEKDAY(DATE(AnnoCalendario,7,16),1),\"ggg\")","v":"mer"},{"$f":"TEXT(WEEKDAY(DATE(AnnoCalendario,7,17),1),\"ggg\")","v":"gio"},{"$f":"TEXT(WEEKDAY(DATE(AnnoCalendario,7,18),1),\"ggg\")","v":"ven"},{"$f":"TEXT(WEEKDAY(DATE(AnnoCalendario,7,19),1),\"ggg\")","v":"sab"},{"$f":"TEXT(WEEKDAY(DATE(AnnoCalendario,7,20),1),\"ggg\")","v":"dom"},{"$f":"TEXT(WEEKDAY(DATE(AnnoCalendario,7,21),1),\"ggg\")","v":"lun"},{"$f":"TEXT(WEEKDAY(DATE(AnnoCalendario,7,22),1),\"ggg\")","v":"mar"},{"$f":"TEXT(WEEKDAY(DATE(AnnoCalendario,7,23),1),\"ggg\")","v":"mer"},{"$f":"TEXT(WEEKDAY(DATE(AnnoCalendario,7,24),1),\"ggg\")","v":"gio"},{"$f":"TEXT(WEEKDAY(DATE(AnnoCalendario,7,25),1),\"ggg\")","v":"ven"},{"$f":"TEXT(WEEKDAY(DATE(AnnoCalendario,7,26),1),\"ggg\")","v":"sab"},{"$f":"TEXT(WEEKDAY(DATE(AnnoCalendario,7,27),1),\"ggg\")","v":"dom"},{"$f":"TEXT(WEEKDAY(DATE(AnnoCalendario,7,28),1),\"ggg\")","v":"lun"},{"$f":"TEXT(WEEKDAY(DATE(AnnoCalendario,7,29),1),\"ggg\")","v":"mar"},{"$f":"TEXT(WEEKDAY(DATE(AnnoCalendario,7,30),1),\"ggg\")","v":"mer"},{"$f":"TEXT(WEEKDAY(DATE(AnnoCalendario,7,31),1),\"ggg\")","v":"gio"}]
[null,"Nome dipendente","1","2","3","4","5","6","7","8","9","10","11","12","13","14","15","16","17","18","19","20","21","22","23","24","25","26","27","28","29","30","31","Totale giorni",null,"Assenze","Assenze per lavoro ","Presente","Assente per malattia"]
[null,"Ibba Raffaele",{"$nulls":31},{"$f":"COUNTA(Luglio[[#This Row],[1]:[31]])","v":0},null,{"$f":" COUNTIF(C7:AG7, \"*A*\")","v":0},{"$f":" COUNTIF(D7:AH7, \"*L*\")","v":0},{"$f":" COUNTIF(E7:AI7, \"*P*\")","v":0},{"$f":" COUNTIF(F7:AJ7, \"*M*\")","v":0}]
[null,"Chironi Claudio",{"$nulls":31},{"$f":"COUNTA(Luglio[[#This Row],[1]:[31]])","v":0},null,0,{"$f":" COUNTIF(D8:AH8, \"*L*\")","v":0},{"$f":" COUNTIF(E8:AI8, \"*P*\")","v":0},{"$f":" COUNTIF(F8:AJ8, \"*M*\")","v":0}]
[null,"Sedda Sandro",{"$nulls":31},{"$f":"COUNTA(Luglio[[#This Row],[1]:[31]])","v":0},null,{"$f":" COUNTIF(C9:AG9, \"*A*\")","v":0},0,0,0]
[null,"Sotgiu Alessandro",{"$nulls":31},{"$f":"COUNTA(Luglio[[#This Row],[1]:[31]])","v":0},null,{"$f":" COUNTIF(C10:AG10, \"*A*\")","v":0},0,0,0]
[null,"Lucianu Damiano",{"$nulls":31},{"$f":"COUNTA(Luglio[[#This Row],[1]:[31]])","v":0},null,0,0,0,0]
[null,"Tedde Paolo",{"$nulls":31},{"$f":"COUNTA(Luglio[[#This Row],[1]:[31]])","v":0},null,0,0,0,0]
[null,"Damu Marco",{"$nulls":31},{"$f":"COUNTA(Luglio[[#This Row],[1]:[31]])","v":0},null,0,0,0,0]
[null,"Carta Giovanni",{"$nulls":31},{"$f":"COUNTA(Luglio[[#This Row],[1]:[31]])","v":0},null,0,0,0,0]
[null,"Piras Francesco",{"$nulls":31},{"$f":"COUNTA(Luglio[[#This Row],[1]:[31]])","v":0},null,0,0,0,0]
[null,"Murru Pasquale",{"$nulls":31},{"$f":"COUNTA(Luglio[[#This Row],[1]:[31]])","v":0},null,0,0,0,0]
[null,"Tedde Giuseppe",{"$nulls":31},{"$f":"COUNTA(Luglio[[#This Row],[1]:[31]])","v":0},null,0,0,0,0]
[null,"Devilla Sergio",{"$nulls":31},{"$f":"COUNTA(Luglio[[#This Row],[1]:[31]])","v":0},null,0,0,0,0]
[null,"Gungui Francesco",{"$nulls":31},{"$f":"COUNTA(Luglio[[#This Row],[1]:[31]])","v":0},null,0,0,0,0]
[null,"Carta Antonio",{"$nulls":31},{"$f":"COUNTA(Luglio[[#This Row],[1]:[31]])","v":0},null,0,0,0,0]
[null,"Fois Luigi",{"$nulls":31},{"$f":"COUNTA(Luglio[[#This Row],[1]:[31]])","v":0},null,0,0,0,0]
[null,"Lai Pasquale",{"$nulls":31},{"$f":"COUNTA(Luglio[[#This Row],[1]:[31]])","v":0},null,0,0,0,0]
[null,"Carta Michele",{"$nulls":31},{"$f":"COUNTA(Luglio[[#This Row],[1]:[31]])","v":0},null,0,0,0,0]
[null,"Carta Filippo",{"$nulls":31},{"$f":"COUNTA(Luglio[[#This Row],[1]:[31]])","v":0},null,0,0,0,0]
[null,"Mariane Federico",{"$nulls":31},{"$f":"COUNTA(Luglio[[#This Row],[1]:[31]])","v":0},null,0,0,0,0]
[null,"Lai Salvatore",{"$nulls":31},{"$f":"COUNTA(Luglio[[#This Row],[1]:[31]])","v":0},null,0,0,0,0]
[null,"Ladu Giovanni",{"$nulls":31},{"$f":"COUNTA(Luglio[[#This Row],[1]:[31]])","v":0},null,0,0,0,0]
[null,"Piga Francesco",{"$nulls":31},{"$f":"COUNTA(Luglio[[#This Row],[1]:[31]])","v":0},null,0,0,0,0]
[null,"Porqueddu Matteo",{"$nulls":31},{"$f":"COUNTA(Luglio[[#This Row],[1]:[31]])","v":0},null,0,0,0,0]
[null,"Guiso Guido",{"$nulls":31},{"$f":"COUNTA(Luglio[[#This Row],[1]:[31]])","v":0},null,0,0,0,0]
[null,"Floris Mario",{"$nulls":31},{"$f":"COUNTA(Luglio[[#This Row],[1]:[31]])","v":0},null,0,0,0,0]
[null,"Floris Fabio",{"$nulls":31},{"$f":"COUNTA(Luglio[[#This Row],[1]:[31]])","v":0},null,0,0,0,0]
[{"$nulls":33},{"$f":"COUNTA(Luglio[[#This Row],[1]:[31]])","v":0},null,0,0,0,0]
[{"$nulls":33},{"$f":"COUNTA(Luglio[[#This Row],[1]:[31]])","v":0},null,0,0,0,0]
[{"$nulls":33},{"$f":"COUNTA(Luglio[[#This Row],[1]:[31]])","v":0},null,0,0,0,0]
[{"$nulls":33},{"$f":"COUNTA(Luglio[[#This Row],[1]:[31]])","v":0},null,0,0,0,0]
[{"$nulls":33},{"$f":"COUNTA(Luglio[[#This Row],[1]:[31]])","v":0},null,0,0,0,0]
[{"$nulls":33},{"$f":"COUNTA(Luglio[[#This Row],[1]:[31]])","v":0},null,0,0,0,0]
[{"$nulls":33},{"$f":"COUNTA(Luglio[[#This Row],[1]:[31]])","v":0},null,0,0,0,0]
[{"$nulls":33},{"$f":"COUNTA(Luglio[[#This Row],[1]:[31]])","v":0},null,0,0,0,0]
[{"$nulls":33},{"$f":"COUNTA(Luglio[[#This Row],[1]:[31]])","v":0},null,0,0,0,0]
[{"$nulls":33},{"$f":"COUNTA(Luglio[[#This Row],[1]:[31]])","v":0},null,0,0,0,0]
[{"$nulls":33},{"$f":"COUNTA(Luglio[[#This Row],[1]:[31]])","v":0},null,0,0,0,0]
[{"$nulls":33},{"$f":"COUNTA(Luglio[[#This Row],[1]:[31]])","v":0},null,0,0,0,0]
[{"$nulls":33},{"$f":"COUNTA(Luglio[[#This Row],[1]:[31]])","v":0},null,0,0,0,0]
[{"$nulls":33},{"$f":"COUNTA(Luglio[[#This Row],[1]:[31]])","v":0},null,0,0,0,0]
[{"$nulls":33},{"$f":"COUNTA(Luglio[[#This Row],[1]:[31]])","v":0},null,0,0,0,0]
[{"$nulls":33},{"$f":"COUNTA(Luglio[[#This Row],[1]:[31]])","v":0},null,0,0,0,0]
[{"$nulls":33},{"$f":"COUNTA(Luglio[[#This Row],[1]:[31]])","v":0},null,0,0,0,0]
[{"$nulls":33},{"$f":"COUNTA(Luglio[[#This Row],[1]:[31]])","v":0},null,0,0,0,0]
[{"$nulls":33},{"$f":"COUNTA(Luglio[[#This Row],[1]:[31]])","v":0},null,0,0,0,0]
[{"$nulls":33},{"$f":"COUNTA(Luglio[[#This Row],[1]:[31]])","v":0},null,0,0,0,0]
[{"$nulls":33},{"$f":"COUNTA(Luglio[[#This Row],[1]:[31]])","v":0},null,0,0,0,0]
[{"$nulls":33},{"$f":"COUNTA(Luglio[[#This Row],[1]:[31]])","v":0},null,0,0,0,0]
[{"$nulls":33},{"$f":"COUNTA(Luglio[[#This Row],[1]:[31]])","v":0},null,0,0,0,0]
[{"$nulls":33},{"$f":"COUNTA(Luglio[[#This Row],[1]:[31]])","v":0},null,0,0,0,0]
[{"$nulls":33},{"$f":"COUNTA(Luglio[[#This Row],[1]:[31]])","v":0},null,0,0,0,0]
[{"$nulls":33},{"$f":"COUNTA(Luglio[[#This Row],[1]:[31]])","v":0},null,0,0,0,0]
[null,{"$f":"\"Totale \"&NomeMese","v":"Totale Luglio"},{"$f":"SUBTOTAL(103,Luglio[1])","v":0},{"$f":"SUBTOTAL(103,Luglio[2])","v":0},{"$f":"SUBTOTAL(103,Luglio[3])","v":0},{"$f":"SUBTOTAL(103,Luglio[4])","v":0},{"$f":"SUBTOTAL(103,Luglio[5])","v":0},{"$f":"SUBTOTAL(103,Luglio[6])","v":0},{"$f":"SUBTOTAL(103,Luglio[7])","v":0},{"$f":"SUBTOTAL(103,Luglio[8])","v":0},{"$f":"SUBTOTAL(103,Luglio[9])","v":0},{"$f":"SUBTOTAL(103,Luglio[10])","v":0},{"$f":"SUBTOTAL(103,Luglio[11])","v":0},{"$f":"SUBTOTAL(103,Luglio[12])","v":0},{"$f":"SUBTOTAL(103,Luglio[13])","v":0},{"$f":"SUBTOTAL(103,Luglio[14])","v":0},{"$f":"SUBTOTAL(103,Luglio[15])","v":0},{"$f":"SUBTOTAL(103,Luglio[16])","v":0},{"$f":"SUBTOTAL(103,Luglio[17])","v":0},{"$f":"SUBTOTAL(103,Luglio[18])","v":0},{"$f":"SUBTOTAL(103,Luglio[19])","v":0},{"$f":"SUBTOTAL(103,Luglio[20])","v":0},{"$f":"SUBTOTAL(103,Luglio[21])","v":0},{"$f":"SUBTOTAL(103,Luglio[22])","v":0},{"$f":"SUBTOTAL(103,Luglio[23])","v":0},{"$f":"SUBTOTAL(103,Luglio[24])","v":0},{"$f":"SUBTOTAL(103,Luglio[25])","v":0},{"$f":"SUBTOTAL(103,Luglio[26])","v":0},{"$f":"SUBTOTAL(103,Luglio[27])","v":0},{"$f":"SUBTOTAL(103,Luglio[28])","v":0},{"$f":"SUBTOTAL(103,Luglio[29])","v":0},{"$f":"SUBTOTAL(103,Luglio[30])","v":0},{"$f":"SUBTOTAL(103,Luglio[31])","v":0},{"$f":"SUBTOTAL(109,Luglio[Totale giorni])","v":0}]

{"sheet":"Agosto","index":7,"n_rows":59,"n_cols":39,"rows_kept":59,"merged":[[1,3,1,5],[1,7,1,9],[1,11,1,12],[1,14,1,16],[1,18,1,20],[3,2,3,32]]}
[null,{"$f":"Tabella_assenze_dipendenti","v":"Assenze dalle attività dei coristi"}]
[null,"Chiave tipo di assenza","A","Assente",null,null,"L","Assente Lavoro",null,null,"P","Presente",null,"M","Assente per malatia",{"$nulls":3},"Personalizzata 2"]
[]
[null,"Agosto","Date di assenza",{"$nulls":30},{"$f":"AnnoCalendario","v":2025}]
[null,null,{"$f":"TEXT(WEEKDAY(DATE(AnnoCalendario,8,1),1),\"ggg\")","v":"ven"},{"$f":"TEXT(WEEKDAY(DATE(AnnoCalendario,8,2),1),\"ggg\")","v":"sab"},{"$f":"TEXT(WEEKDAY(DATE(AnnoCalendario,8,3),1),\"ggg\")","v":"dom"},{"$f":"TEXT(WEEKDAY(DATE(AnnoCalendario,8,4),1),\"ggg\")","v":"lun"},{"$f":"TEXT(WEEKDAY(DATE(AnnoCalendario,8,5),1),\"ggg\")","v":"mar"},{"$f":"TEXT(WEEKDAY(DATE(AnnoCalendario,8,6),1),\"ggg\")","v":"mer"},{"$f":"TEXT(WEEKDAY(DATE(AnnoCalendario,8,7),1),\"ggg\")","v":"gio"},{"$f":"TEXT(WEEKDAY(DATE(AnnoCalendario,8,8),1),\"ggg\")","v":"ven"},{"$f":"TEXT(WEEKDAY(DATE(AnnoCalendario,8,9),1),\"ggg\")","v":"sab"},{"$f":"TEXT(WEEKDAY(DATE(AnnoCalendario,8,10),1),\"ggg\")","v":"dom"},{"$f":"TEXT(WEEKDAY(DATE(AnnoCalendario,8,11),1),\"ggg\")","v":"lun"},{"$f":"TEXT(WEEKDAY(DATE(AnnoCalendario,8,12),1),\"ggg\")","v":"mar"},{"$f":"TEXT(WEEKDAY(DATE(AnnoCalendario,8,13),1),\"ggg\")","v":"mer"},{"$f":"TEXT(WEEKDAY(DATE(AnnoCalendario,8,14),1),\"ggg\")","v":"gio"},{"$f":"TEXT(WEEKDAY(DATE(AnnoCalendario,8,15),1),\"ggg\")","v":"ven"},{"$f":"TEXT(WEEKDAY(DATE(AnnoCalendario,8,16),1),\"ggg\")","v":"sab"},{"$f":"TEXT(WEEKDAY(DATE(AnnoCalendario,8,17),1),\"ggg\")","v":"dom"},{"$f":"TEXT(WEEKDAY(DATE(AnnoCalendario,8,18),1),\"ggg\")","v":"lun"},{"$f":"TEXT(WEEKDAY(DATE(AnnoCalendario,8,19),1),\"ggg\")","v":"mar"},{"$f":"TEXT(WEEKDAY(DATE(AnnoCalendario,8,20),1),\"ggg\")","v":"mer"},{"$f":"TEXT(WEEKDAY(DATE(AnnoCalendario,8,21),1),\"ggg\")","v":"gio"},{"$f":"TEXT(WEEKDAY(DATE(AnnoCalendario,8,22),1),\"ggg\")","v":"ven"},{"$f":"TEXT(WEEKDAY(DATE(AnnoCalendario,8,23),1),\"ggg\")","v":"sab"},{"$f":"TEXT(WEEKDAY(DATE(AnnoCalendario,8,24),1),\"ggg\")","v":"dom"},{"$f":"TEXT(WEEKDAY(DATE(AnnoCalendario,8,25),1),\"ggg\")","v":"lun"},{"$f":"TEXT(WEEKDAY(DATE(AnnoCalendario,8,26),1),\"ggg\")","v":"mar"},{"$f":"TEXT(WEEKDAY(DATE(AnnoCalendario,8,27),1),\"ggg\")","v":"mer"},{"$f":"TEXT(WEEKDAY(DATE(AnnoCalendario,8,28),1),\"ggg\")","v":"gio"},{"$f":"TEXT(WEEKDAY(DATE(AnnoCalendario,8,29),1),\"ggg\")","v":"ven"},{"$f":"TEXT(WEEKDAY(DATE(AnnoCalendario,8,30),1),\"ggg\")","v":"sab"},{"$f":"TEXT(WEEKDAY(DATE(AnnoCalendario,8,31),1),\"ggg\")","v":"dom"}]
[null,"Nome dipendente","1","2","3","4","5","6","7","8","9","10","11","12","13","14","15","16","17","18","19","20","21","22","23","24","25","26","27","28","29","30","31","Totale giorni",null,"Assenze","Assenze per lavoro ","Presente","Assente per malattia"]
[null,"Ibba Raffaele",{"$nulls":31},{"$f":"COUNTA(Agosto[[#This Row],[1]:[31]])","v":0},null,{"$f":" COUNTIF(C7:AG7, \"*A*\")","v":0},{"$f":" COUNTIF(D7:AH7, \"*L*\")","v":0},{"$f":" COUNTIF(E7:AI7, \"*P*\")","v":0},{"$f":" COUNTIF(F7:AJ7, \"*M*\")","v":0}]
[null,"Chironi Claudio",{"$nulls":31},{"$f":"COUNTA(Agosto[[#This Row],[1]:[31]])","v":0},null,0,{"$f":" COUNTIF(D8:AH8, \"*L*\")","v":0},{"$f":" COUNTIF(E8:AI8, \"*P*\")","v":0},{"$f":" COUNTIF(F8:AJ8, \"*M*\")","v":0}]
[null,"Sedda Sandro",{"$nulls":31},{"$f":"COUNTA(Agosto[[#This Row],[1]:[31]])","v":0},null,{"$f":" COUNTIF(C9:AG9, \"*A*\")","v":0},0,0,0]
[null,"Sotgiu Alessandro",{"$nulls":31},{"$f":"COUNTA(Agosto[[#This Row],[1]:[31]])","v":0},null,{"$f":" COUNTIF(C10:AG10, \"*A*\")","v":0},0,0,0]
[null,"Lucianu Damiano",{"$nulls":31},{"$f":"COUNTA(Agosto[[#This Row],[1]:[31]])","v":0},null,0,0,0,0]
[null,"Tedde Paolo",{"$nulls":31},{"$f":"COUNTA(Agosto[[#This Row],[1]:[31]])","v":0},null,0,0,0,0]
[null,"Damu Marco",{"$nulls":31},{"$f":"COUNTA(Agosto[[#This Row],[1]:[31]])","v":0},null,0,0,0,0]
[null,"Carta Giovanni",{"$nulls":31},{"$f":"COUNTA(Agosto[[#This Row],[1]:[31]])","v":0},null,0,0,0,0]
[null,"Piras Francesco",{"$nulls":31},{"$f":"COUNTA(Agosto[[#This Row],[1]:[31]])","v":0},null,0,0,0,0]
[null,"Murru Pasquale",{"$nulls":31},{"$f":"COUNTA(Agosto[[#This Row],[1]:[31]])","v":0},null,0,0,0,0]
[null,"Tedde Giuseppe",{"$nulls":31},{"$f":"COUNTA(Agosto[[#This Row],[1]:[31]])","v":0},null,0,0,0,0]
[null,"Devilla Sergio",{"$nulls":31},{"$f":"COUNTA(Agosto[[#This Row],[1]:[31]])","v":0},null,0,0,0,0]
[null,"Gungui Francesco",{"$nulls":31},{"$f":"COUNTA(Agosto[[#This Row],[1]:[31]])","v":0},null,0,0,0,0]
[null,"Carta Antonio",{"$nulls":31},{"$f":"COUNTA(Agosto[[#This Row],[1]:[31]])","v":0},null,0,0,0,0]
[null,"Fois Luigi",{"$nulls":31},{"$f":"COUNTA(Agosto[[#This Row],[1]:[31]])","v":0},null,0,0,0,0]
[null,"Lai Pasquale",{"$nulls":31},{"$f":"COUNTA(Agosto[[#This Row],[1]:[31]])","v":0},null,0,0,0,0]
[null,"Carta Michele",{"$nulls":31},{"$f":"COUNTA(Agosto[[#This Row],[1]:[31]])","v":0},null,0,0,0,0]
[null,"Carta Filippo",{"$nulls":31},{"$f":"COUNTA(Agosto[[#This Row],[1]:[31]])","v":0},null,0,0,0,0]
[null,"Mariane Federico",{"$nulls":31},{"$f":"COUNTA(Agosto[[#This Row],[1]:[31]])","v":0},null,0,0,0,0]
[null,"Lai Salvatore",{"$nulls":31},{"$f":"COUNTA(Agosto[[#This Row],[1]:[31]])","v":0},null,0,0,0,0]
[null,"Ladu Giovanni",{"$nulls":31},{"$f":"COUNTA(Agosto[[#This Row],[1]:[31]])","v":0},null,0,0,0,0]
[null,"Piga Francesco",{"$nulls":31},{"$f":"COUNTA(Agosto[[#This Row],[1]:[31]])","v":0},null,0,0,0,0]
[null,"Porqueddu Matteo",{"$nulls":31},{"$f":"COUNTA(Agosto[[#This Row],[1]:[31]])","v":0},null,0,0,0,0]
[null,"Guiso Guido",{"$nulls":31},{"$f":"COUNTA(Agosto[[#This Row],[1]:[31]])","v":0},null,0,0,0,0]
[null,"Floris Mario",{"$nulls":31},{"$f":"COUNTA(Agosto[[#This Row],[1]:[31]])","v":0},null,0,0,0,0]
[null,"Floris Fabio",{"$nulls":31},{"$f":"COUNTA(Agosto[[#This Row],[1]:[31]])","v":0},null,0,0,0,0]
[{"$nulls":33},{"$f":"COUNTA(Agosto[[#This Row],[1]:[31]])","v":0},null,0,0,0,0]
[{"$nulls":33},{"$f":"COUNTA(Agosto[[#This Row],[1]:[31]])","v":0},null,0,0,0,0]
[{"$nulls":33},{"$f":"COUNTA(Agosto[[#This Row],[1]:[31]])","v":0},null,0,0,0,0]
[{"$nulls":33},{"$f":"COUNTA(Agosto[[#This Row],[1]:[31]])","v":0},null,0,0,0,0]
[{"$nulls":33},{"$f":"COUNTA(Agosto[[#This Row],[1]:[31]])","v":0},null,0,0,0,0]
[{"$nulls":33},{"$f":"COUNTA(Agosto[[#This Row],[1]:[31]])","v":0},null,0,0,0,0]
[{"$nulls":33},{"$f":"COUNTA(Agosto[[#This Row],[1]:[31]])","v":0},null,0,0,0,0]
[{"$nulls":33},{"$f":"COUNTA(Agosto[[#This Row],[1]:[31]])","v":0},null,0,0,0,0]
[{"$nulls":33},{"$f":"COUNTA(Agosto[[#This Row],[1]:[31]])","v":0},null,0,0,0,0]
[{"$nulls":33},{"$f":"COUNTA(Agosto[[#This Row],[1]:[31]])","v":0},null,0,0,0,0]
[{"$nulls":33},{"$f":"COUNTA(Agosto[[#This Row],[1]:[31]])","v":0},null,0,0,0,0]
[{"$nulls":33},{"$f":"COUNTA(Agosto[[#This Row],[1]:[31]])","v":0},null,0,0,0,0]
[{"$nulls":33},{"$f":"COUNTA(Agosto[[#This Row],[1]:[31]])","v":0},null,0,0,0,0]
[{"$nulls":33},{"$f":"COUNTA(Agosto[[#This Row],[1]:[31]])","v":0},null,0,0,0,0]
[{"$nulls":33},{"$f":"COUNTA(Agosto[[#This Row],[1]:[31]])","v":0},null,0,0,0,0]
[{"$nulls":33},{"$f":"COUNTA(Agosto[[#This Row],[1]:[31]])","v":0},null,0,0,0,0]
[{"$nulls":33},{"$f":"COUNTA(Agosto[[#This Row],[1]:[31]])","v":0},null,0,0,0,0]
[{"$nulls":33},{"$f":"COUNTA(Agosto[[#This Row],[1]:[31]])","v":0},null,0,0,0,0]
[{"$nulls":33},{"$f":"COUNTA(Agosto[[#This Row],[1]:[31]])","v":0},null,0,0,0,0]
[{"$nulls":33},{"$f":"COUNTA(Agosto[[#This Row],[1]:[31]])","v":0},null,0,0,0,0]
[{"$nulls":33},{"$f":"COUNTA(Agosto[[#This Row],[1]:[31]])","v":0},null,0,0,0,0]
[{"$nulls":33},{"$f":"COUNTA(Agosto[[#This Row],[1]:[31]])","v":0},null,0,0,0,0]
[{"$nulls":33},{"$f":"COUNTA(Agosto[[#This Row],[1]:[31]])","v":0},null,0,0,0,0]
[{"$nulls":33},{"$f":"COUNTA(Agosto[[#This Row],[1]:[31]])","v":0},null,0,0,0,0]
[{"$nulls":33},{"$f":"COUNTA(Agosto[[#This Row],[1]:[31]])","v":0},null,0,0,0,0]
[{"$nulls":33},{"$f":"COUNTA(Agosto[[#This Row],[1]:[31]])","v":0},null,0,0,0,0]
[null,{"$f":"\"Totale \"&NomeMese","v":"Totale Agosto"},{"$f":"SUBTOTAL(103,Agosto[1])","v":0},{"$f":"SUBTOTAL(103,Agosto[2])","v":0},{"$f":"SUBTOTAL(103,Agosto[3])","v":0},{"$f":"SUBTOTAL(103,Agosto[4])","v":0},{"$f":"SUBTOTAL(103,Agosto[5])","v":0},{"$f":"SUBTOTAL(103,Agosto[6])","v":0},{"$f":"SUBTOTAL(103,Agosto[7])","v":0},{"$f":"SUBTOTAL(103,Agosto[8])","v":0},{"$f":"SUBTOTAL(103,Agosto[9])","v":0},{"$f":"SUBTOTAL(103,Agosto[10])","v":0},{"$f":"SUBTOTAL(103,Agosto[11])","v":0},{"$f":"SUBTOTAL(103,Agosto[12])","v":0},{"$f":"SUBTOTAL(103,Agosto[13])","v":0},{"$f":"SUBTOTAL(103,Agosto[14])","v":0},{"$f":"SUBTOTAL(103,Agosto[15])","v":0},{"$f":"SUBTOTAL(103,Agosto[16])","v":0},{"$f":"SUBTOTAL(103,Agosto[17])","v":0},{"$f":"SUBTOTAL(103,Agosto[18])","v":0},{"$f":"SUBTOTAL(103,Agosto[19])","v":0},{"$f":"SUBTOTAL(103,Agosto[20])","v":0},{"$f":"SUBTOTAL(103,Agosto[21])","v":0},{"$f":"SUBTOTAL(103,Agosto[22])","v":0},{"$f":"SUBTOTAL(103,Agosto[23])","v":0},{"$f":"SUBTOTAL(103,Agosto[24])","v":0},{"$f":"SUBTOTAL(103,Agosto[25])","v":0},{"$f":"SUBTOTAL(103,Agosto[26])","v":0},{"$f":"SUBTOTAL(103,Agosto[27])","v":0},{"$f":"SUBTOTAL(103,Agosto[28])","v":0},{"$f":"SUBTOTAL(103,Agosto[29])","v":0},{"$f":"SUBTOTAL(103,Agosto[30])","v":0},{"$f":"SUBTOTAL(103,Agosto[31])","v":0},{"$f":"SUBTOTAL(109,Agosto[Totale giorni])","v":0}]

{"sheet":"Settembre","index":8,"n_rows":59,"n_cols":39,"rows_kept":59,"merged":[[1,3,1,5],[1,7,1,9],[1,11,1,12],[1,14,1,16],[1,18,1,20],[3,2,3,32]]}
[null,{"$f":"Tabella_assenze_dipendenti","v":"Assenze dalle attività dei coristi"}]
[null,"Chiave tipo di assenza","A","Assente",null,null,"L","Assente Lavoro",null,null,"P","Presente",null,"M","Assente per malatia",{"$nulls":3},"Personalizzata 2"]
[]
[null,"Settembre","Date di assenza",{"$nulls":30},{"$f":"AnnoCalendario","v":2025}]
[null,null,{"$f":"TEXT(WEEKDAY(DATE(AnnoCalendario,9,1),1),\"ggg\")","v":"lun"},{"$f":"TEXT(WEEKDAY(DATE(AnnoCalendario,9,2),1),\"ggg\")","v":"mar"},{"$f":"TEXT(WEEKDAY(DATE(AnnoCalendario,9,3),1),\"ggg\")","v":"mer"},{"$f":"TEXT(WEEKDAY(DATE(AnnoCalendario,9,4),1),\"ggg\")","v":"gio"},{"$f":"TEXT(WEEKDAY(DATE(AnnoCalendario,9,5),1),\"ggg\")","v":"ven"},{"$f":"TEXT(WEEKDAY(DATE(AnnoCalendario,9,6),1),\"ggg\")","v":"sab"},{"$f":"TEXT(WEEKDAY(DATE(AnnoCalendario,9,7),1),\"ggg\")","v":"dom"},{"$f":"TEXT(WEEKDAY(DATE(AnnoCalendario,9,8),1),\"ggg\")","v":"lun"},{"$f":"TEXT(WEEKDAY(DATE(AnnoCalendario,9,9),1),\"ggg\")","v":"mar"},{"$f":"TEXT(WEEKDAY(DATE(AnnoCalendario,9,10),1),\"ggg\")","v":"mer"},{"$f":"TEXT(WEEKDAY(DATE(AnnoCalendario,9,11),1),\"ggg\")","v":"gio"},{"$f":"TEXT(WEEKDAY(DATE(AnnoCalendario,9,12),1),\"ggg\")","v":"ven"},{"$f":"TEXT(WEEKDAY(DATE(AnnoCalendario,9,13),1),\"ggg\")","v":"sab"},{"$f":"TEXT(WEEKDAY(DATE(AnnoCalendario,9,14),1),\"ggg\")","v":"dom"},{"$f":"TEXT(WEEKDAY(DATE(AnnoCalendario,9,15),1),\"ggg\")","v":"lun"},{"$f":"TEXT(WEEKDAY(DATE(AnnoCalendario,9,16),1),\"ggg\")","v":"mar"},{"$f":"TEXT(WEEKDAY(DATE(AnnoCalendario,9,17),1),\"ggg\")","v":"mer"},{"$f":"TEXT(WEEKDAY(DATE(AnnoCalendario,9,18),1),\"ggg\")","v":"gio"},{"$f":"TEXT(WEEKDAY(DATE(AnnoCalendario,9,19),1),\"ggg\")","v":"ven"},{"$f":"TEXT(WEEKDAY(DATE(AnnoCalendario,9,20),1),\"ggg\")","v":"sab"},{"$f":"TEXT(WEEKDAY(DATE(AnnoCalendario,9,21),1),\"ggg\")","v":"dom"},{"$f":"TEXT(WEEKDAY(DATE(AnnoCalendario,9,22),1),\"ggg\")","v":"lun"},{"$f":"TEXT(WEEKDAY(DATE(AnnoCalendario,9,23),1),\"ggg\")","v":"mar"},{"$f":"TEXT(WEEKDAY(DATE(AnnoCalendario,9,24),1),\"ggg\")","v":"mer"},{"$f":"TEXT(WEEKDAY(DATE(AnnoCalendario,9,25),1),\"ggg\")","v":"gio"},{"$f":"TEXT(WEEKDAY(DATE(AnnoCalendario,9,26),1),\"ggg\")","v":"ven"},{"$f":"TEXT(WEEKDAY(DATE(AnnoCalendario,9,27),1),\"ggg\")","v":"sab"},{"$f":"TEXT(WEEKDAY(DATE(AnnoCalendario,9,28),1),\"ggg\")","v":"dom"},{"$f":"TEXT(WEEKDAY(DATE(AnnoCalendario,9,29),1),\"ggg\")","v":"lun"},{"$f":"TEXT(WEEKDAY(DATE(AnnoCalendario,9,30),1),\"ggg\")","v":"mar"}]
[null,"Nome dipendente","1","2","3","4","5","6","7","8","9","10","11","12","13","14","15","16","17","18","19","20","21","22","23","24","25","26","27","28","29","30"," ","Totale giorni",null,"Assenze","Assenze per lavoro ","Presente","Assente per malattia"]
[null,"Ibba Raffaele",{"$nulls":31},{"$f":"COUNTA(Settembre[[#This Row],[1]:[30]])","v":0},null,{"$f":" COUNTIF(C7:AG7, \"*A*\")","v":0},{"$f":" COUNTIF(D7:AH7, \"*L*\")","v":0},{"$f":" COUNTIF(E7:AI7, \"*P*\")","v":0},{"$f":" COUNTIF(F7:AJ7, \"*M*\")","v":0}]
[null,"Chironi Claudio",{"$nulls":31},{"$f":"COUNTA(Settembre[[#This Row],[1]:[30]])","v":0},null,0,{"$f":" COUNTIF(D8:AH8, \"*L*\")","v":0},{"$f":" COUNTIF(E8:AI8, \"*P*\")","v":0},{"$f":" COUNTIF(F8:AJ8, \"*M*\")","v":0}]
[null,"Sedda Sandro",{"$nulls":31},{"$f":"COUNTA(Settembre[[#This Row],[1]:[30]])","v":0},null,{"$f":" COUNTIF(C9:AG9, \"*A*\")","v":0},0,0,0]
[null,"Sotgiu Alessandro",{"$nulls":31},{"$f":"COUNTA(Settembre[[#This Row],[1]:[30]])","v":0},null,{"$f":" COUNTIF(C10:AG10, \"*A*\")","v":0},0,0,0]
[null,"Lucianu Damiano",{"$nulls":31},{"$f":"COUNTA(Settembre[[#This Row],[1]:[30]])","v":0},null,0,0,0,0]
[null,"Tedde Paolo",{"$nulls":31},{"$f":"COUNTA(Settembre[[#This Row],[1]:[30]])","v":0},null,0,0,0,0]
[null,"Damu Marco",{"$nulls":31},{"$f":"COUNTA(Settembre[[#This Row],[1]:[30]])","v":0},null,0,0,0,0]
[null,"Carta Giovanni",{"$nulls":31},{"$f":"COUNTA(Settembre[[#This Row],[1]:[30]])","v":0},null,0,0,0,0]
[null,"Piras Francesco",{"$nulls":31},{"$f":"COUNTA(Settembre[[#This Row],[1]:[30]])","v":0},null,0,0,0,0]
[null,"Murru Pasquale",{"$nulls":31},{"$f":"COUNTA(Settembre[[#This Row],[1]:[30]])","v":0},null,0,0,0,0]
[null,"Tedde Giuseppe",{"$nulls":31},{"$f":"COUNTA(Settembre[[#This Row],[1]:[30]])","v":0},null,0,0,0,0]
[null,"Devilla Sergio",{"$nulls":31},{"$f":"COUNTA(Settembre[[#This Row],[1]:[30]])","v":0},null,0,0,0,0]
[null,"Gungui Francesco",{"$nulls":31},{"$f":"COUNTA(Settembre[[#This Row],[1]:[30]])","v":0},null,0,0,0,0]
[null,"Carta Antonio",{"$nulls":31},{"$f":"COUNTA(Settembre[[#This Row],[1]:[30]])","v":0},null,0,0,0,0]
[null,"Fois Luigi",{"$nulls":31},{"$f":"COUNTA(Settembre[[#This Row],[1]:[30]])","v":0},null,0,0,0,0]
[null,"Lai Pasquale",{"$nulls":31},{"$f":"COUNTA(Settembre[[#This Row],[1]:[30]])","v":0},null,0,0,0,0]
[null,"Carta Michele",{"$nulls":31},{"$f":"COUNTA(Settembre[[#This Row],[1]:[30]])","v":0},null,0,0,0,0]
[null,"Carta Filippo",{"$nulls":31},{"$f":"COUNTA(Settembre[[#This Row],[1]:[30]])","v":0},null,0,0,0,0]
[null,"Mariane Federico",{"$nulls":31},{"$f":"COUNTA(Settembre[[#This Row],[1]:[30]])","v":0},null,0,0,0,0]
[null,"Lai Salvatore",{"$nulls":31},{"$f":"COUNTA(Settembre[[#This Row],[1]:[30]])","v":0},null,0,0,0,0]
[null,"Ladu Giovanni",{"$nulls":31},{"$f":"COUNTA(Settembre[[#This Row],[1]:[30]])","v":0},null,0,0,0,0]
[null,"Piga Francesco",{"$nulls":31},{"$f":"COUNTA(Settembre[[#This Row],[1]:[30]])","v":0},null,0,0,0,0]
[null,"Porqueddu Matteo",{"$nulls":31},{"$f":"COUNTA(Settembre[[#This Row],[1]:[30]])","v":0},null,0,0,0,0]
[null,"Guiso Guido",{"$nulls":31},{"$f":"COUNTA(Settembre[[#This Row],[1]:[30]])","v":0},null,0,0,0,0]
[null,"Floris Mario",{"$nulls":31},{"$f":"COUNTA(Settembre[[#This Row],[1]:[30]])","v":0},null,0,0,0,0]
[null,"Floris Fabio",{"$nulls":31},{"$f":"COUNTA(Settembre[[#This Row],[1]:[30]])","v":0},null,0,0,0,0]
[{"$nulls":33},{"$f":"COUNTA(Settembre[[#This Row],[1]:[30]])","v":0},null,0,0,0,0]
[{"$nulls":33},{"$f":"COUNTA(Settembre[[#This Row],[1]:[30]])","v":0},null,0,0,0,0]
[{"$nulls":33},{"$f":"COUNTA(Settembre[[#This Row],[1]:[30]])","v":0},null,0,0,0,0]
[{"$nulls":33},{"$f":"COUNTA(Settembre[[#This Row],[1]:[30]])","v":0},null,0,0,0,0]
[{"$nulls":33},{"$f":"COUNTA(Settembre[[#This Row],[1]:[30]])","v":0},null,0,0,0,0]
[{"$nulls":33},{"$f":"COUNTA(Settembre[[#This Row],[1]:[30]])","v":0},null,0,0,0,0]
[{"$nulls":33},{"$f":"COUNTA(Settembre[[#This Row],[1]:[30]])","v":0},null,0,0,0,0]
[{"$nulls":33},{"$f":"COUNTA(Settembre[[#This Row],[1]:[30]])","v":0},null,0,0,0,0]
[{"$nulls":33},{"$f":"COUNTA(Settembre[[#This Row],[1]:[30]])","v":0},null,0,0,0,0]
[{"$nulls":33},{"$f":"COUNTA(Settembre[[#This Row],[1]:[30]])","v":0},null,0,0,0,0]
[{"$nulls":33},{"$f":"COUNTA(Settembre[[#This Row],[1]:[30]])","v":0},null,0,0,0,0]
[{"$nulls":33},{"$f":"COUNTA(Settembre[[#This Row],[1]:[30]])","v":0},null,0,0,0,0]
[{"$nulls":33},{"$f":"COUNTA(Settembre[[#This Row],[1]:[30]])","v":0},null,0,0,0,0]
[{"$nulls":33},{"$f":"COUNTA(Settembre[[#This Row],[1]:[30]])","v":0},null,0,0,0,0]
[{"$nulls":33},{"$f":"COUNTA(Settembre[[#This Row],[1]:[30]])","v":0},null,0,0,0,0]
[{"$nulls":33},{"$f":"COUNTA(Settembre[[#This Row],[1]:[30]])","v":0},null,0,0,0,0]
[{"$nulls":33},{"$f":"COUNTA(Settembre[[#This Row],[1]:[30]])","v":0},null,0,0,0,0]
[{"$nulls":33},{"$f":"COUNTA(Settembre[[#This Row],[1]:[30]])","v":0},null,0,0,0,0]
[{"$nulls":33},{"$f":"COUNTA(Settembre[[#This Row],[1]:[30]])","v":0},null,0,0,0,0]
[{"$nulls":33},{"$f":"COUNTA(Settembre[[#This Row],[1]:[30]])","v":0},null,0,0,0,0]
[{"$nulls":33},{"$f":"COUNTA(Settembre[[#This Row],[1]:[30]])","v":0},null,0,0,0,0]
[{"$nulls":33},{"$f":"COUNTA(Settembre[[#This Row],[1]:[30]])","v":0},null,0,0,0,0]
[{"$nulls":33},{"$f":"COUNTA(Settembre[[#This Row],[1]:[30]])","v":0},null,0,0,0,0]
[{"$nulls":33},{"$f":"COUNTA(Settembre[[#This Row],[1]:[30]])","v":0},null,0,0,0,0]
[{"$nulls":33},{"$f":"COUNTA(Settembre[[#This Row],[1]:[30]])","v":0},null,0,0,0,0]
[{"$nulls":33},{"$f":"COUNTA(Settembre[[#This Row],[1]:[30]])","v":0},null,0,0,0,0]
[null,{"$f":"\"Totale \"&NomeMese","v":"Totale Settembre"},{"$f":"SUBTOTAL(103,Settembre[1])","v":0},{"$f":"SUBTOTAL(103,Settembre[2])","v":0},{"$f":"SUBTOTAL(103,Settembre[3])","v":0},{"$f":"SUBTOTAL(103,Settembre[4])","v":0},{"$f":"SUBTOTAL(103,Settembre[5])","v":0},{"$f":"SUBTOTAL(103,Settembre[6])","v":0},{"$f":"SUBTOTAL(103,Settembre[7])","v":0},{"$f":"SUBTOTAL(103,Settembre[8])","v":0},{"$f":"SUBTOTAL(103,Settembre[9])","v":0},{"$f":"SUBTOTAL(103,Settembre[10])","v":0},{"$f":"SUBTOTAL(103,Settembre[11])","v":0},{"$f":"SUBTOTAL(103,Settembre[12])","v":0},{"$f":"SUBTOTAL(103,Settembre[13])","v":0},{"$f":"SUBTOTAL(103,Settembre[14])","v":0},{"$f":"SUBTOTAL(103,Settembre[15])","v":0},{"$f":"SUBTOTAL(103,Settembre[16])","v":0},{"$f":"SUBTOTAL(103,Settembre[17])","v":0},{"$f":"SUBTOTAL(103,Settembre[18])","v":0},{"$f":"SUBTOTAL(103,Settembre[19])","v":0},{"$f":"SUBTOTAL(103,Settembre[20])","v":0},{"$f":"SUBTOTAL(103,Settembre[21])","v":0},{"$f":"SUBTOTAL(103,Settembre[22])","v":0},{"$f":"SUBTOTAL(103,Settembre[23])","v":0},{"$f":"SUBTOTAL(103,Settembre[24])","v":0},{"$f":"SUBTOTAL(103,Settembre[25])","v":0},{"$f":"SUBTOTAL(103,Settembre[26])","v":0},{"$f":"SUBTOTAL(103,Settembre[27])","v":0},{"$f":"SUBTOTAL(103,Settembre[28])","v":0},{"$f":"SUBTOTAL(103,Settembre[29])","v":0},{"$f":"SUBTOTAL(103,Settembre[30])","v":0},{"$f":"SUBTOTAL(103,Settembre[[ ]])","v":0},{"$f":"SUBTOTAL(109,Settembre[Totale giorni])","v":0}]

{"sheet":"Ottobre","index":9,"n_rows":59,"n_cols":39,"rows_kept":59,"merged":[[1,3,1,5],[1,7,1,9],[1,11,1,12],[1,14,1,16],[1,18,1,20],[3,2,3,32]]}
[null,{"$f":"Tabella_assenze_dipendenti","v":"Assenze dalle attività dei coristi"}]
[null,"Chiave tipo di assenza","A","Assente",null,null,"L","Assente Lavoro",null,null,"P","Presente",null,"M","Assente per malatia",{"$nulls":3},"Personalizzata 2"]
[]
[null,"Ottobre","Date di assenza",{"$nulls":30},{"$f":"AnnoCalendario","v":2025}]
[null,null,{"$f":"TEXT(WEEKDAY(DATE(AnnoCalendario,10,1),1),\"ggg\")","v":"mer"},{"$f":"TEXT(WEEKDAY(DATE(AnnoCalendario,10,2),1),\"ggg\")","v":"gio"},{"$f":"TEXT(WEEKDAY(DATE(AnnoCalendario,10,3),1),\"ggg\")","v":"ven"},{"$f":"TEXT(WEEKDAY(DATE(AnnoCalendario,10,4),1),\"ggg\")","v":"sab"},{"$f":"TEXT(WEEKDAY(DATE(AnnoCalendario,10,5),1),\"ggg\")","v":"dom"},{"$f":"TEXT(WEEKDAY(DATE(AnnoCalendario,10,6),1),\"ggg\")","v":"lun"},{"$f":"TEXT(WEEKDAY(DATE(AnnoCalendario,10,7),1),\"ggg\")","v":"mar"},{"$f":"TEXT(WEEKDAY(DATE(AnnoCalendario,10,8),1),\"ggg\")","v":"mer"},{"$f":"TEXT(WEEKDAY(DATE(AnnoCalendario,10,9),1),\"ggg\")","v":"gio"},{"$f":"TEXT(WEEKDAY(DATE(AnnoCalendario,10,10),1),\"ggg\")","v":"ven"},{"$f":"TEXT(WEEKDAY(DATE(AnnoCalendario,10,11),1),\"ggg\")","v":"sab"},{"$f":"TEXT(WEEKDAY(DATE(AnnoCalendario,10,12),1),\"ggg\")","v":"dom"},{"$f":"TEXT(WEEKDAY(DATE(AnnoCalendario,10,13),1),\"ggg\")","v":"lun"},{"$f":"TEXT(WEEKDAY(DATE(AnnoCalendario,10,14),1),\"ggg\")","v":"mar"},{"$f":"TEXT(WEEKDAY(DATE(AnnoCalendario,10,15),1),\"ggg\")","v":"mer"},{"$f":"TEXT(WEEKDAY(DATE(AnnoCalendario,10,16),1),\"ggg\")","v":"gio"},{"$f":"TEXT(WEEKDAY(DATE(AnnoCalendario,10,17),1),\"ggg\")","v":"ven"},{"$f":"TEXT(WEEKDAY(DATE(AnnoCalendario,10,18),1),\"ggg\")","v":"sab"},{"$f":"TEXT(WEEKDAY(DATE(AnnoCalendario,10,19),1),\"ggg\")","v":"dom"},{"$f":"TEXT(WEEKDAY(DATE(AnnoCalendario,10,20),1),\"ggg\")","v":"lun"},{"$f":"TEXT(WEEKDAY(DATE(AnnoCalendario,10,21),1),\"ggg\")","v":"mar"},{"$f":"TEXT(WEEKDAY(DATE(AnnoCalendario,10,22),1),\"ggg\")","v":"mer"},{"$f":"TEXT(WEEKDAY(DATE(AnnoCalendario,10,23),1),\"ggg\")","v":"gio"},{"$f":"TEXT(WEEKDAY(DATE(AnnoCalendario,10,24),1),\"ggg\")","v":"ven"},{"$f":"TEXT(WEEKDAY(DATE(AnnoCalendario,10,25),1),\"ggg\")","v":"sab"},{"$f":"TEXT(WEEKDAY(DATE(AnnoCalendario,10,26),1),\"ggg\")","v":"dom"},{"$f":"TEXT(WEEKDAY(DATE(AnnoCalendario,10,27),1),\"ggg\")","v":"lun"},{"$f":"TEXT(WEEKDAY(DATE(AnnoCalendario,10,28),1),\"ggg\")","v":"mar"},{"$f":"TEXT(WEEKDAY(DATE(AnnoCalendario,10,29),1),\"ggg\")","v":"mer"},{"$f":"TEXT(WEEKDAY(DATE(AnnoCalendario,10,30),1),\"ggg\")","v":"gio"},{"$f":"TEXT(WEEKDAY(DATE(AnnoCalendario,10,31),1),\"ggg\")","v":"ven"}]
[null,"Nome dipendente","1","2","3","4","5","6","7","8","9","10","11","12","13","14","15","16","17","18","19","20","21","22","23","24","25","26","27","28","29","30","31","Totale giorni",null,"Assenze","Assenze per lavoro ","Presente","Assente per malattia"]
[null,"Ibba Raffaele",{"$nulls":31},{"$f":"COUNTA(Ottobre[[#This Row],[1]:[31]])","v":0},null,{"$f":" COUNTIF(C7:AG7, \"*A*\")","v":0},{"$f":" COUNTIF(D7:AH7, \"*L*\")","v":0},{"$f":" COUNTIF(E7:AI7, \"*P*\")","v":0},{"$f":" COUNTIF(F7:AJ7, \"*M*\")","v":0}]
[null,"Chironi Claudio",{"$nulls":31},{"$f":"COUNTA(Ottobre[[#This Row],[1]:[31]])","v":0},null,0,{"$f":" COUNTIF(D8:AH8, \"*L*\")","v":0},{"$f":" COUNTIF(E8:AI8, \"*P*\")","v":0},{"$f":" COUNTIF(F8:AJ8, \"*M*\")","v":0}]
[null,"Sedda Sandro",{"$nulls":31},{"$f":"COUNTA(Ottobre[[#This Row],[1]:[31]])","v":0},null,{"$f":" COUNTIF(C9:AG9, \"*A*\")","v":0},0,0,0]
[null,"Sotgiu Alessandro",{"$nulls":31},{"$f":"COUNTA(Ottobre[[#This Row],[1]:[31]])","v":0},null,{"$f":" COUNTIF(C10:AG10, \"*A*\")","v":0},0,0,0]
[null,"Lucianu Damiano",{"$nulls":31},{"$f":"COUNTA(Ottobre[[#This Row],[1]:[31]])","v":0},null,0,0,0,0]
[null,"Tedde Paolo",{"$nulls":31},{"$f":"COUNTA(Ottobre[[#This Row],[1]:[31]])","v":0},null,0,0,0,0]
[null,"Damu Marco",{"$nulls":31},{"$f":"COUNTA(Ottobre[[#This Row],[1]:[31]])","v":0},null,0,0,0,0]
[null,"Carta Giovanni",{"$nulls":31},{"$f":"COUNTA(Ottobre[[#This Row],[1]:[31]])","v":0},null,0,0,0,0]
[null,"Piras Francesco",{"$nulls":31},{"$f":"COUNTA(Ottobre[[#This Row],[1]:[31]])","v":0},null,0,0,0,0]
[null,"Murru Pasquale",{"$nulls":31},{"$f":"COUNTA(Ottobre[[#This Row],[1]:[31]])","v":0},null,0,0,0,0]
[null,"Tedde Giuseppe",{"$nulls":31},{"$f":"COUNTA(Ottobre[[#This Row],[1]:[31]])","v":0},null,0,0,0,0]
[null,"Devilla Sergio",{"$nulls":31},{"$f":"COUNTA(Ottobre[[#This Row],[1]:[31]])","v":0},null,0,0,0,0]
[null,"Gungui Francesco",{"$nulls":31},{"$f":"COUNTA(Ottobre[[#This Row],[1]:[31]])","v":0},null,0,0,0,0]
[null,"Carta Antonio",{"$nulls":31},{"$f":"COUNTA(Ottobre[[#This Row],[1]:[31]])","v":0},null,0,0,0,0]
[null,"Fois Luigi",{"$nulls":31},{"$f":"COUNTA(Ottobre[[#This Row],[1]:[31]])","v":0},null,0,0,0,0]
[null,"Lai Pasquale",{"$nulls":31},{"$f":"COUNTA(Ottobre[[#This Row],[1]:[31]])","v":0},null,0,0,0,0]
[null,"Carta Michele",{"$nulls":31},{"$f":"COUNTA(Ottobre[[#This Row],[1]:[31]])","v":0},null,0,0,0,0]
[null,"Carta Filippo",{"$nulls":31},{"$f":"COUNTA(Ottobre[[#This Row],[1]:[31]])","v":0},null,0,0,0,0]
[null,"Mariane Federico",{"$nulls":31},{"$f":"COUNTA(Ottobre[[#This Row],[1]:[31]])","v":0},null,0,0,0,0]
[null,"Lai Salvatore",{"$nulls":31},{"$f":"COUNTA(Ottobre[[#This Row],[1]:[31]])","v":0},null,0,0,0,0]
[null,"Ladu Giovanni",{"$nulls":31},{"$f":"COUNTA(Ottobre[[#This Row],[1]:[31]])","v":0},null,0,0,0,0]
[null,"Piga Francesco",{"$nulls":31},{"$f":"COUNTA(Ottobre[[#This Row],[1]:[31]])","v":0},null,0,0,0,0]
[null,"Porqueddu Matteo",{"$nulls":31},{"$f":"COUNTA(Ottobre[[#This Row],[1]:[31]])","v":0},null,0,0,0,0]
[null,"Guiso Guido",{"$nulls":31},{"$f":"COUNTA(Ottobre[[#This Row],[1]:[31]])","v":0},null,0,0,0,0]
[null,"Floris Mario",{"$nulls":31},{"$f":"COUNTA(Ottobre[[#This Row],[1]:[31]])","v":0},null,0,0,0,0]
[null,"Floris Fabio",{"$nulls":31},{"$f":"COUNTA(Ottobre[[#This Row],[1]:[31]])","v":0},null,0,0,0,0]
[{"$nulls":33},{"$f":"COUNTA(Ottobre[[#This Row],[1]:[31]])","v":0},null,0,0,0,0]
[{"$nulls":33},{"$f":"COUNTA(Ottobre[[#This Row],[1]:[31]])","v":0},null,0,0,0,0]
[{"$nulls":33},{"$f":"COUNTA(Ottobre[[#This Row],[1]:[31]])","v":0},null,0,0,0,0]
[{"$nulls":33},{"$f":"COUNTA(Ottobre[[#This Row],[1]:[31]])","v":0},null,0,0,0,0]
[{"$nulls":33},{"$f":"COUNTA(Ottobre[[#This Row],[1]:[31]])","v":0},null,0,0,0,0]
[{"$nulls":33},{"$f":"COUNTA(Ottobre[[#This Row],[1]:[31]])","v":0},null,0,0,0,0]
[{"$nulls":33},{"$f":"COUNTA(Ottobre[[#This Row],[1]:[31]])","v":0},null,0,0,0,0]
[{"$nulls":33},{"$f":"COUNTA(Ottobre[[#This Row],[1]:[31]])","v":0},null,0,0,0,0]
[{"$nulls":33},{"$f":"COUNTA(Ottobre[[#This Row],[1]:[31]])","v":0},null,0,0,0,0]
[{"$nulls":33},{"$f":"COUNTA(Ottobre[[#This Row],[1]:[31]])","v":0},null,0,0,0,0]
[{"$nulls":33},{"$f":"COUNTA(Ottobre[[#This Row],[1]:[31]])","v":0},null,0,0,0,0]
[{"$nulls":33},{"$f":"COUNTA(Ottobre[[#This Row],[1]:[31]])","v":0},null,0,0,0,0]
[{"$nulls":33},{"$f":"COUNTA(Ottobre[[#This Row],[1]:[31]])","v":0},null,0,0,0,0]
[{"$nulls":33},{"$f":"COUNTA(Ottobre[[#This Row],[1]:[31]])","v":0},null,0,0,0,0]
[{"$nulls":33},{"$f":"COUNTA(Ottobre[[#This Row],[1]:[31]])","v":0},null,0,0,0,0]
[{"$nulls":33},{"$f":"COUNTA(Ottobre[[#This Row],[1]:[31]])","v":0},null,0,0,0,0]
[{"$nulls":33},{"$f":"COUNTA(Ottobre[[#This Row],[1]:[31]])","v":0},null,0,0,0,0]
[{"$nulls":33},{"$f":"COUNTA(Ottobre[[#This Row],[1]:[31]])","v":0},null,0,0,0,0]
[{"$nulls":33},{"$f":"COUNTA(Ottobre[[#This Row],[1]:[31]])","v":0},null,0,0,0,0]
[{"$nulls":33},{"$f":"COUNTA(Ottobre[[#This Row],[1]:[31]])","v":0},null,0,0,0,0]
[{"$nulls":33},{"$f":"COUNTA(Ottobre[[#This Row],[1]:[31]])","v":0},null,0,0,0,0]
[{"$nulls":33},{"$f":"COUNTA(Ottobre[[#This Row],[1]:[31]])","v":0},null,0,0,0,0]
[{"$nulls":33},{"$f":"COUNTA(Ottobre[[#This Row],[1]:[31]])","v":0},null,0,0,0,0]
[{"$nulls":33},{"$f":"COUNTA(Ottobre[[#This Row],[1]:[31]])","v":0},null,0,0,0,0]
[{"$nulls":33},{"$f":"COUNTA(Ottobre[[#This Row],[1]:[31]])","v":0},null,0,0,0,0]
[{"$nulls":33},{"$f":"COUNTA(Ottobre[[#This Row],[1]:[31]])","v":0},null,0,0,0,0]
[null,{"$f":"\"Totale \"&NomeMese","v":"Totale Ottobre"},{"$f":"SUBTOTAL(103,Ottobre[1])","v":0},{"$f":"SUBTOTAL(103,Ottobre[2])","v":0},{"$f":"SUBTOTAL(103,Ottobre[3])","v":0},{"$f":"SUBTOTAL(103,Ottobre[4])","v":0},{"$f":"SUBTOTAL(103,Ottobre[5])","v":0},{"$f":"SUBTOTAL(103,Ottobre[6])","v":0},{"$f":"SUBTOTAL(103,Ottobre[7])","v":0},{"$f":"SUBTOTAL(103,Ottobre[8])","v":0},{"$f":"SUBTOTAL(103,Ottobre[9])","v":0},{"$f":"SUBTOTAL(103,Ottobre[10])","v":0},{"$f":"SUBTOTAL(103,Ottobre[11])","v":0},{"$f":"SUBTOTAL(103,Ottobre[12])","v":0},{"$f":"SUBTOTAL(103,Ottobre[13])","v":0},{"$f":"SUBTOTAL(103,Ottobre[14])","v":0},{"$f":"SUBTOTAL(103,Ottobre[15])","v":0},{"$f":"SUBTOTAL(103,Ottobre[16])","v":0},{"$f":"SUBTOTAL(103,Ottobre[17])","v":0},{"$f":"SUBTOTAL(103,Ottobre[18])","v":0},{"$f":"SUBTOTAL(103,Ottobre[19])","v":0},{"$f":"SUBTOTAL(103,Ottobre[20])","v":0},{"$f":"SUBTOTAL(103,Ottobre[21])","v":0},{"$f":"SUBTOTAL(103,Ottobre[22])","v":0},{"$f":"SUBTOTAL(103,Ottobre[23])","v":0},{"$f":"SUBTOTAL(103,Ottobre[24])","v":0},{"$f":"SUBTOTAL(103,Ottobre[25])","v":0},{"$f":"SUBTOTAL(103,Ottobre[26])","v":0},{"$f":"SUBTOTAL(103,Ottobre[27])","v":0},{"$f":"SUBTOTAL(103,Ottobre[28])","v":0},{"$f":"SUBTOTAL(103,Ottobre[29])","v":0},{"$f":"SUBTOTAL(103,Ottobre[30])","v":0},{"$f":"SUBTOTAL(103,Ottobre[31])","v":0},{"$f":"SUBTOTAL(109,Ottobre[Totale giorni])","v":0}]

{"sheet":"Novembre","index":10,"n_rows":59,"n_cols":39,"rows_kept":59,"merged":[[1,3,1,5],[1,7,1,9],[1,11,1,12],[1,14,1,16],[1,18,1,20],[3,2,3,32]]}
[null,{"$f":"Tabella_assenze_dipendenti","v":"Assenze dalle attività dei coristi"}]
[null,"Chiave tipo di assenza","A","Assente",null,null,"L","Assente Lavoro",null,null,"P","Presente",null,"M","Assente per malatia",{"$nulls":3},"Personalizzata 2"]
[]
[null,"Novembre","Date di assenza",{"$nulls":30},{"$f":"AnnoCalendario","v":2025}]
[null,null,{"$f":"TEXT(WEEKDAY(DATE(AnnoCalendario,11,1),1),\"ggg\")","v":"sab"},{"$f":"TEXT(WEEKDAY(DATE(AnnoCalendario,11,2),1),\"ggg\")","v":"dom"},{"$f":"TEXT(WEEKDAY(DATE(AnnoCalendario,11,3),1),\"ggg\")","v":"lun"},{"$f":"TEXT(WEEKDAY(DATE(AnnoCalendario,11,4),1),\"ggg\")","v":"mar"},{"$f":"TEXT(WEEKDAY(DATE(AnnoCalendario,11,5),1),\"ggg\")","v":"mer"},{"$f":"TEXT(WEEKDAY(DATE(AnnoCalendario,11,6),1),\"ggg\")","v":"gio"},{"$f":"TEXT(WEEKDAY(DATE(AnnoCalendario,11,7),1),\"ggg\")","v":"ven"},{"$f":"TEXT(WEEKDAY(DATE(AnnoCalendario,11,8),1),\"ggg\")","v":"sab"},{"$f":"TEXT(WEEKDAY(DATE(AnnoCalendario,11,9),1),\"ggg\")","v":"dom"},{"$f":"TEXT(WEEKDAY(DATE(AnnoCalendario,11,10),1),\"ggg\")","v":"lun"},{"$f":"TEXT(WEEKDAY(DATE(AnnoCalendario,11,11),1),\"ggg\")","v":"mar"},{"$f":"TEXT(WEEKDAY(DATE(AnnoCalendario,11,12),1),\"ggg\")","v":"mer"},{"$f":"TEXT(WEEKDAY(DATE(AnnoCalendario,11,13),1),\"ggg\")","v":"gio"},{"$f":"TEXT(WEEKDAY(DATE(AnnoCalendario,11,14),1),\"ggg\")","v":"ven"},{"$f":"TEXT(WEEKDAY(DATE(AnnoCalendario,11,15),1),\"ggg\")","v":"sab"},{"$f":"TEXT(WEEKDAY(DATE(AnnoCalendario,11,16),1),\"ggg\")","v":"dom"},{"$f":"TEXT(WEEKDAY(DATE(AnnoCalendario,11,17),1),\"ggg\")","v":"lun"},{"$f":"TEXT(WEEKDAY(DATE(AnnoCalendario,11,18),1),\"ggg\")","v":"mar"},{"$f":"TEXT(WEEKDAY(DATE(AnnoCalendario,11,19),1),\"ggg\")","v":"mer"},{"$f":"TEXT(WEEKDAY(DATE(AnnoCalendario,11,20),1),\"ggg\")","v":"gio"},{"$f":"TEXT(WEEKDAY(DATE(AnnoCalendario,11,21),1),\"ggg\")","v":"ven"},{"$f":"TEXT(WEEKDAY(DATE(AnnoCalendario,11,22),1),\"ggg\")","v":"sab"},{"$f":"TEXT(WEEKDAY(DATE(AnnoCalendario,11,23),1),\"ggg\")","v":"dom"},{"$f":"TEXT(WEEKDAY(DATE(AnnoCalendario,11,24),1),\"ggg\")","v":"lun"},{"$f":"TEXT(WEEKDAY(DATE(AnnoCalendario,11,25),1),\"ggg\")","v":"mar"},{"$f":"TEXT(WEEKDAY(DATE(AnnoCalendario,11,26),1),\"ggg\")","v":"mer"},{"$f":"TEXT(WEEKDAY(DATE(AnnoCalendario,11,27),1),\"ggg\")","v":"gio"},{"$f":"TEXT(WEEKDAY(DATE(AnnoCalendario,11,28),1),\"ggg\")","v":"ven"},{"$f":"TEXT(WEEKDAY(DATE(AnnoCalendario,11,29),1),\"ggg\")","v":"sab"},{"$f":"TEXT(WEEKDAY(DATE(AnnoCalendario,11,30),1),\"ggg\")","v":"dom"}]
[null,"Nome dipendente","1","2","3","4","5","6","7","8","9","10","11","12","13","14","15","16","17","18","19","20","21","22","23","24","25","26","27","28","29","30"," ","Totale giorni",null,"Assenze","Assenze per lavoro ","Presente","Assente per malattia"]
[null,"Ibba Raffaele",{"$nulls":31},{"$f":"COUNTA(Novembre[[#This Row],[1]:[30]])","v":0},null,{"$f":" COUNTIF(C7:AG7, \"*A*\")","v":0},{"$f":" COUNTIF(D7:AH7, \"*L*\")","v":0},{"$f":" COUNTIF(E7:AI7, \"*P*\")","v":0},{"$f":" COUNTIF(F7:AJ7, \"*M*\")","v":0}]
[null,"Chironi Claudio",{"$nulls":31},{"$f":"COUNTA(Novembre[[#This Row],[1]:[30]])","v":0},null,0,{"$f":" COUNTIF(D8:AH8, \"*L*\")","v":0},{"$f":" COUNTIF(E8:AI8, \"*P*\")","v":0},{"$f":" COUNTIF(F8:AJ8, \"*M*\")","v":0}]
[null,"Sedda Sandro",{"$nulls":31},{"$f":"COUNTA(Novembre[[#This Row],[1]:[30]])","v":0},null,{"$f":" COUNTIF(C9:AG9, \"*A*\")","v":0},0,0,0]
[null,"Sotgiu Alessandro",{"$nulls":31},{"$f":"COUNTA(Novembre[[#This Row],[1]:[30]])","v":0},null,{"$f":" COUNTIF(C10:AG10, \"*A*\")","v":0},0,0,0]
[null,"Lucianu Damiano",{"$nulls":31},{"$f":"COUNTA(Novembre[[#This Row],[1]:[30]])","v":0},null,0,0,0,0]
[null,"Tedde Paolo",{"$nulls":31},{"$f":"COUNTA(Novembre[[#This Row],[1]:[30]])","v":0},null,0,0,0,0]
[null,"Damu Marco",{"$nulls":31},{"$f":"COUNTA(Novembre[[#This Row],[1]:[30]])","v":0},null,0,0,0,0]
[null,"Carta Giovanni",{"$nulls":31},{"$f":"COUNTA(Novembre[[#This Row],[1]:[30]])","v":0},null,0,0,0,0]
[null,"Piras Francesco",{"$nulls":31},{"$f":"COUNTA(Novembre[[#This Row],[1]:[30]])","v":0},null,0,0,0,0]
[null,"Murru Pasquale",{"$nulls":31},{"$f":"COUNTA(Novembre[[#This Row],[1]:[30]])","v":0},null,0,0,0,0]
[null,"Tedde Giuseppe",{"$nulls":31},{"$f":"COUNTA(Novembre[[#This Row],[1]:[30]])","v":0},null,0,0,0,0]
[null,"Devilla Sergio",{"$nulls":31},{"$f":"COUNTA(Novembre[[#This Row],[1]:[30]])","v":0},null,0,0,0,0]
[null,"Gungui Francesco",{"$nulls":31},{"$f":"COUNTA(Novembre[[#This Row],[1]:[30]])","v":0},null,0,0,0,0]
[null,"Carta Antonio",{"$nulls":31},{"$f":"COUNTA(Novembre[[#This Row],[1]:[30]])","v":0},null,0,0,0,0]
[null,"Fois Luigi",{"$nulls":31},{"$f":"COUNTA(Novembre[[#This Row],[1]:[30]])","v":0},null,0,0,0,0]
[null,"Lai Pasquale",{"$nulls":31},{"$f":"COUNTA(Novembre[[#This Row],[1]:[30]])","v":0},null,0,0,0,0]
[null,"Carta Michele",{"$nulls":31},{"$f":"COUNTA(Novembre[[#This Row],[1]:[30]])","v":0},null,0,0,0,0]
[null,"Carta Filippo",{"$nulls":31},{"$f":"COUNTA(Novembre[[#This Row],[1]:[30]])","v":0},null,0,0,0,0]
[null,"Mariane Federico",{"$nulls":31},{"$f":"COUNTA(Novembre[[#This Row],[1]:[30]])","v":0},null,0,0,0,0]
[null,"Lai Salvatore",{"$nulls":31},{"$f":"COUNTA(Novembre[[#This Row],[1]:[30]])","v":0},null,0,0,0,0]
[null,"Ladu Giovanni",{"$nulls":31},{"$f":"COUNTA(Novembre[[#This Row],[1]:[30]])","v":0},null,0,0,0,0]
[null,"Piga Francesco",{"$nulls":31},{"$f":"COUNTA(Novembre[[#This Row],[1]:[30]])","v":0},null,0,0,0,0]
[null,"Porqueddu Matteo",{"$nulls":31},{"$f":"COUNTA(Novembre[[#This Row],[1]:[30]])","v":0},null,0,0,0,0]
[null,"Guiso Guido",{"$nulls":31},{"$f":"COUNTA(Novembre[[#This Row],[1]:[30]])","v":0},null,0,0,0,0]
[null,"Floris Mario",{"$nulls":31},{"$f":"COUNTA(Novembre[[#This Row],[1]:[30]])","v":0},null,0,0,0,0]
[null,"Floris Fabio",{"$nulls":31},{"$f":"COUNTA(Novembre[[#This Row],[1]:[30]])","v":0},null,0,0,0,0]
[{"$nulls":33},{"$f":"COUNTA(Novembre[[#This Row],[1]:[30]])","v":0},null,0,0,0,0]
[{"$nulls":33},{"$f":"COUNTA(Novembre[[#This Row],[1]:[30]])","v":0},null,0,0,0,0]
[{"$nulls":33},{"$f":"COUNTA(Novembre[[#This Row],[1]:[30]])","v":0},null,0,0,0,0]
[{"$nulls":33},{"$f":"COUNTA(Novembre[[#This Row],[1]:[30]])","v":0},null,0,0,0,0]
[{"$nulls":33},{"$f":"COUNTA(Novembre[[#This Row],[1]:[30]])","v":0},null,0,0,0,0]
[{"$nulls":33},{"$f":"COUNTA(Novembre[[#This Row],[1]:[30]])","v":0},null,0,0,0,0]
[{"$nulls":33},{"$f":"COUNTA(Novembre[[#This Row],[1]:[30]])","v":0},null,0,0,0,0]
[{"$nulls":33},{"$f":"COUNTA(Novembre[[#This Row],[1]:[30]])","v":0},null,0,0,0,0]
[{"$nulls":33},{"$f":"COUNTA(Novembre[[#This Row],[1]:[30]])","v":0},null,0,0,0,0]
[{"$nulls":33},{"$f":"COUNTA(Novembre[[#This Row],[1]:[30]])","v":0},null,0,0,0,0]
[{"$nulls":33},{"$f":"COUNTA(Novembre[[#This Row],[1]:[30]])","v":0},null,0,0,0,0]
[{"$nulls":33},{"$f":"COUNTA(Novembre[[#This Row],[1]:[30]])","v":0},null,0,0,0,0]
[{"$nulls":33},{"$f":"COUNTA(Novembre[[#This Row],[1]:[30]])","v":0},null,0,0,0,0]
[{"$nulls":33},{"$f":"COUNTA(Novembre[[#This Row],[1]:[30]])","v":0},null,0,0,0,0]
[{"$nulls":33},{"$f":"COUNTA(Novembre[[#This Row],[1]:[30]])","v":0},null,0,0,0,0]
[{"$nulls":33},{"$f":"COUNTA(Novembre[[#This Row],[1]:[30]])","v":0},null,0,0,0,0]
[{"$nulls":33},{"$f":"COUNTA(Novembre[[#This Row],[1]:[30]])","v":0},null,0,0,0,0]
[{"$nulls":33},{"$f":"COUNTA(Novembre[[#This Row],[1]:[30]])","v":0},null,0,0,0,0]
[{"$nulls":33},{"$f":"COUNTA(Novembre[[#This Row],[1]:[30]])","v":0},null,0,0,0,0]
[{"$nulls":33},{"$f":"COUNTA(Novembre[[#This Row],[1]:[30]])","v":0},null,0,0,0,0]
[{"$nulls":33},{"$f":"COUNTA(Novembre[[#This Row],[1]:[30]])","v":0},null,0,0,0,0]
[{"$nulls":33},{"$f":"COUNTA(Novembre[[#This Row],[1]:[30]])","v":0},null,0,0,0,0]
[{"$nulls":33},{"$f":"COUNTA(Novembre[[#This Row],[1]:[30]])","v":0},null,0,0,0,0]
[{"$nulls":33},{"$f":"COUNTA(Novembre[[#This Row],[1]:[30]])","v":0},null,0,0,0,0]
[{"$nulls":33},{"$f":"COUNTA(Novembre[[#This Row],[1]:[30]])","v":0},null,0,0,0,0]
[{"$nulls":33},{"$f":"COUNTA(Novembre[[#This Row],[1]:[30]])","v":0},null,0,0,0,0]
[null,{"$f":"\"Totale \"&NomeMese","v":"Totale Novembre"},{"$f":"SUBTOTAL(103,Novembre[1])","v":0},{"$f":"SUBTOTAL(103,Novembre[2])","v":0},{"$f":"SUBTOTAL(103,Novembre[3])","v":0},{"$f":"SUBTOTAL(103,Novembre[4])","v":0},{"$f":"SUBTOTAL(103,Novembre[5])","v":0},{"$f":"SUBTOTAL(103,Novembre[6])","v":0},{"$f":"SUBTOTAL(103,Novembre[7])","v":0},{"$f":"SUBTOTAL(103,Novembre[8])","v":0},{"$f":"SUBTOTAL(103,Novembre[9])","v":0},{"$f":"SUBTOTAL(103,Novembre[10])","v":0},{"$f":"SUBTOTAL(103,Novembre[11])","v":0},{"$f":"SUBTOTAL(103,Novembre[12])","v":0},{"$f":"SUBTOTAL(103,Novembre[13])","v":0},{"$f":"SUBTOTAL(103,Novembre[14])","v":0},{"$f":"SUBTOTAL(103,Novembre[15])","v":0},{"$f":"SUBTOTAL(103,Novembre[16])","v":0},{"$f":"SUBTOTAL(103,Novembre[17])","v":0},{"$f":"SUBTOTAL(103,Novembre[18])","v":0},{"$f":"SUBTOTAL(103,Novembre[19])","v":0},{"$f":"SUBTOTAL(103,Novembre[20])","v":0},{"$f":"SUBTOTAL(103,Novembre[21])","v":0},{"$f":"SUBTOTAL(103,Novembre[22])","v":0},{"$f":"SUBTOTAL(103,Novembre[23])","v":0},{"$f":"SUBTOTAL(103,Novembre[24])","v":0},{"$f":"SUBTOTAL(103,Novembre[25])","v":0},{"$f":"SUBTOTAL(103,Novembre[26])","v":0},{"$f":"SUBTOTAL(103,Novembre[27])","v":0},{"$f":"SUBTOTAL(103,Novembre[28])","v":0},{"$f":"SUBTOTAL(103,Novembre[29])","v":0},{"$f":"SUBTOTAL(103,Novembre[30])","v":0},{"$f":"SUBTOTAL(103,Novembre[[ ]])","v":0},{"$f":"SUBTOTAL(109,Novembre[Totale giorni])","v":0}]

{"sheet":"Dicembre","index":11,"n_rows":59,"n_cols":39,"rows_kept":59,"merged":[[1,3,1,5],[1,7,1,9],[1,11,1,12],[1,14,1,16],[1,18,1,20],[3,2,3,32]]}
[null,{"$f":"Tabella_assenze_dipendenti","v":"Assenze dalle attività dei coristi"}]
[null,"Chiave tipo di assenza","A","Assente",null,null,"L","Assente Lavoro",null,null,"P","Presente",null,"M","Assente per malatia",{"$nulls":3},"Personalizzata 2"]
[]
[null,"Dicembre","Date di assenza",{"$nulls":30},{"$f":"AnnoCalendario","v":2025}]
[null,null,{"$f":"TEXT(WEEKDAY(DATE(AnnoCalendario,12,1),1),\"ggg\")","v":"lun"},{"$f":"TEXT(WEEKDAY(DATE(AnnoCalendario,12,2),1),\"ggg\")","v":"mar"},{"$f":"TEXT(WEEKDAY(DATE(AnnoCalendario,12,3),1),\"ggg\")","v":"mer"},{"$f":"TEXT(WEEKDAY(DATE(AnnoCalendario,12,4),1),\"ggg\")","v":"gio"},{"$f":"TEXT(WEEKDAY(DATE(AnnoCalendario,12,5),1),\"ggg\")","v":"ven"},{"$f":"TEXT(WEEKDAY(DATE(AnnoCalendario,12,6),1),\"ggg\")","v":"sab"},{"$f":"TEXT(WEEKDAY(DATE(AnnoCalendario,12,7),1),\"ggg\")","v":"dom"},{"$f":"TEXT(WEEKDAY(DATE(AnnoCalendario,12,8),1),\"ggg\")","v":"lun"},{"$f":"TEXT(WEEKDAY(DATE(AnnoCalendario,12,9),1),\"ggg\")","v":"mar"},{"$f":"TEXT(WEEKDAY(DATE(AnnoCalendario,12,10),1),\"ggg\")","v":"mer"},{"$f":"TEXT(WEEKDAY(DATE(AnnoCalendario,12,11),1),\"ggg\")","v":"gio"},{"$f":"TEXT(WEEKDAY(DATE(AnnoCalendario,12,12),1),\"ggg\")","v":"ven"},{"$f":"TEXT(WEEKDAY(DATE(AnnoCalendario,12,13),1),\"ggg\")","v":"sab"},{"$f":"TEXT(WEEKDAY(DATE(AnnoCalendario,12,14),1),\"ggg\")","v":"dom"},{"$f":"TEXT(WEEKDAY(DATE(AnnoCalendario,12,15),1),\"ggg\")","v":"lun"},{"$f":"TEXT(WEEKDAY(DATE(AnnoCalendario,12,16),1),\"ggg\")","v":"mar"},{"$f":"TEXT(WEEKDAY(DATE(AnnoCalendario,12,17),1),\"ggg\")","v":"mer"},{"$f":"TEXT(WEEKDAY(DATE(AnnoCalendario,12,18),1),\"ggg\")","v":"gio"},{"$f":"TEXT(WEEKDAY(DATE(AnnoCalendario,12,19),1),\"ggg\")","v":"ven"},{"$f":"TEXT(WEEKDAY(DATE(AnnoCalendario,12,20),1),\"ggg\")","v":"sab"},{"$f":"TEXT(WEEKDAY(DATE(AnnoCalendario,12,21),1),\"ggg\")","v":"dom"},{"$f":"TEXT(WEEKDAY(DATE(AnnoCalendario,12,22),1),\"ggg\")","v":"lun"},{"$f":"TEXT(WEEKDAY(DATE(AnnoCalendario,12,23),1),\"ggg\")","v":"mar"},{"$f":"TEXT(WEEKDAY(DATE(AnnoCalendario,12,24),1),\"ggg\")","v":"mer"},{"$f":"TEXT(WEEKDAY(DATE(AnnoCalendario,12,25),1),\"ggg\")","v":"gio"},{"$f":"TEXT(WEEKDAY(DATE(AnnoCalendario,12,26),1),\"ggg\")","v":"ven"},{"$f":"TEXT(WEEKDAY(DATE(AnnoCalendario,12,27),1),\"ggg\")","v":"sab"},{"$f":"TEXT(WEEKDAY(DATE(AnnoCalendario,12,28),1),\"ggg\")","v":"dom"},{"$f":"TEXT(WEEKDAY(DATE(AnnoCalendario,12,29),1),\"ggg\")","v":"lun"},{"$f":"TEXT(WEEKDAY(DATE(AnnoCalendario,12,30),1),\"ggg\")","v":"mar"},{"$f":"TEXT(WEEKDAY(DATE(AnnoCalendario,12,31),1),\"ggg\")","v":"mer"}]
[null,"Nome dipendente","1","2","3","4","5","6","7","8","9","10","11","12","13","14","15","16","17","18","19","20","21","22","23","24","25","26","27","28","29","30","31","Totale giorni",null,"Assenze","Assenze per lavoro ","Presente","Assente per malattia"]
[null,"Ibba Raffaele",{"$nulls":31},{"$f":"COUNTA(Dicembre[[#This Row],[1]:[31]])","v":0},null,{"$f":" COUNTIF(C7:AG7, \"*A*\")","v":0},{"$f":" COUNTIF(D7:AH7, \"*L*\")","v":0},{"$f":" COUNTIF(E7:AI7, \"*P*\")","v":0},{"$f":" COUNTIF(F7:AJ7, \"*M*\")","v":0}]
[null,"Chironi Claudio",{"$nulls":31},{"$f":"COUNTA(Dicembre[[#This Row],[1]:[31]])","v":0},null,0,{"$f":" COUNTIF(D8:AH8, \"*L*\")","v":0},{"$f":" COUNTIF(E8:AI8, \"*P*\")","v":0},{"$f":" COUNTIF(F8:AJ8, \"*M*\")","v":0}]
[null,"Sedda Sandro",{"$nulls":31},{"$f":"COUNTA(Dicembre[[#This Row],[1]:[31]])","v":0},null,{"$f":" COUNTIF(C9:AG9, \"*A*\")","v":0},0,0,0]
[null,"Sotgiu Alessandro",{"$nulls":31},{"$f":"COUNTA(Dicembre[[#This Row],[1]:[31]])","v":0},null,{"$f":" COUNTIF(C10:AG10, \"*A*\")","v":0},0,0,0]
[null,"Lucianu Damiano",{"$nulls":31},{"$f":"COUNTA(Dicembre[[#This Row],[1]:[31]])","v":0},null,0,0,0,0]
[null,"Tedde Paolo",{"$nulls":31},{"$f":"COUNTA(Dicembre[[#This Row],[1]:[31]])","v":0},null,0,0,0,0]
[null,"Damu Marco",{"$nulls":31},{"$f":"COUNTA(Dicembre[[#This Row],[1]:[31]])","v":0},null,0,0,0,0]
[null,"Carta Giovanni",{"$nulls":31},{"$f":"COUNTA(Dicembre[[#This Row],[1]:[31]])","v":0},null,0,0,0,0]
[null,"Piras Francesco",{"$nulls":31},{"$f":"COUNTA(Dicembre[[#This Row],[1]:[31]])","v":0},null,0,0,0,0]
[null,"Murru Pasquale",{"$nulls":31},{"$f":"COUNTA(Dicembre[[#This Row],[1]:[31]])","v":0},null,0,0,0,0]
[null,"Tedde Giuseppe",{"$nulls":31},{"$f":"COUNTA(Dicembre[[#This Row],[1]:[31]])","v":0},null,0,0,0,0]
[null,"Devilla Sergio",{"$nulls":31},{"$f":"COUNTA(Dicembre[[#This Row],[1]:[31]])","v":0},null,0,0,0,0]
[null,"Gungui Francesco",{"$nulls":31},{"$f":"COUNTA(Dicembre[[#This Row],[1]:[31]])","v":0},null,0,0,0,0]
[null,"Carta Antonio",{"$nulls":31},{"$f":"COUNTA(Dicembre[[#This Row],[1]:[31]])","v":0},null,0,0,0,0]
[null,"Fois Luigi",{"$nulls":31},{"$f":"COUNTA(Dicembre[[#This Row],[1]:[31]])","v":0},null,0,0,0,0]
[null,"Lai Pasquale",{"$nulls":31},{"$f":"COUNTA(Dicembre[[#This Row],[1]:[31]])","v":0},null,0,0,0,0]
[null,"Carta Michele",{"$nulls":31},{"$f":"COUNTA(Dicembre[[#This Row],[1]:[31]])","v":0},null,0,0,0,0]
[null,"Carta Filippo",{"$nulls":31},{"$f":"COUNTA(Dicembre[[#This Row],[1]:[31]])","v":0},null,0,0,0,0]
[null,"Mariane Federico",{"$nulls":31},{"$f":"COUNTA(Dicembre[[#This Row],[1]:[31]])","v":0},null,0,0,0,0]
[null,"Lai Salvatore",{"$nulls":31},{"$f":"COUNTA(Dicembre[[#This Row],[1]:[31]])","v":0},null,0,0,0,0]
[null,"Ladu Giovanni",{"$nulls":31},{"$f":"COUNTA(Dicembre[[#This Row],[1]:[31]])","v":0},null,0,0,0,0]
[null,"Piga Francesco",{"$nulls":31},{"$f":"COUNTA(Dicembre[[#This Row],[1]:[31]])","v":0},null,0,0,0,0]
[null,"Porqueddu Matteo",{"$nulls":31},{"$f":"COUNTA(Dicembre[[#This Row],[1]:[31]])","v":0},null,0,0,0,0]
[null,"Guiso Guido",{"$nulls":31},{"$f":"COUNTA(Dicembre[[#This Row],[1]:[31]])","v":0},null,0,0,0,0]
[null,"Floris Mario",{"$nulls":31},{"$f":"COUNTA(Dicembre[[#This Row],[1]:[31]])","v":0},null,0,0,0,0]
[null,"Floris Fabio",{"$nulls":31},{"$f":"COUNTA(Dicembre[[#This Row],[1]:[31]])","v":0},null,0,0,0,0]
[{"$nulls":33},{"$f":"COUNTA(Dicembre[[#This Row],[1]:[31]])","v":0},null,0,0,0,0]
[{"$nulls":33},{"$f":"COUNTA(Dicembre[[#This Row],[1]:[31]])","v":0},null,0,0,0,0]
[{"$nulls":33},{"$f":"COUNTA(Dicembre[[#This Row],[1]:[31]])","v":0},null,0,0,0,0]
[{"$nulls":33},{"$f":"COUNTA(Dicembre[[#This Row],[1]:[31]])","v":0},null,0,0,0,0]
[{"$nulls":33},{"$f":"COUNTA(Dicembre[[#This Row],[1]:[31]])","v":0},null,0,0,0,0]
[{"$nulls":33},{"$f":"COUNTA(Dicembre[[#This Row],[1]:[31]])","v":0},null,0,0,0,0]
[{"$nulls":33},{"$f":"COUNTA(Dicembre[[#This Row],[1]:[31]])","v":0},null,0,0,0,0]
[{"$nulls":33},{"$f":"COUNTA(Dicembre[[#This Row],[1]:[31]])","v":0},null,0,0,0,0]
[{"$nulls":33},{"$f":"COUNTA(Dicembre[[#This Row],[1]:[31]])","v":0},null,0,0,0,0]
[{"$nulls":33},{"$f":"COUNTA(Dicembre[[#This Row],[1]:[31]])","v":0},null,0,0,0,0]
[{"$nulls":33},{"$f":"COUNTA(Dicembre[[#This Row],[1]:[31]])","v":0},null,0,0,0,0]
[{"$nulls":33},{"$f":"COUNTA(Dicembre[[#This Row],[1]:[31]])","v":0},null,0,0,0,0]
[{"$nulls":33},{"$f":"COUNTA(Dicembre[[#This Row],[1]:[31]])","v":0},null,0,0,0,0]
[{"$nulls":33},{"$f":"COUNTA(Dicembre[[#This Row],[1]:[31]])","v":0},null,0,0,0,0]
[{"$nulls":33},{"$f":"COUNTA(Dicembre[[#This Row],[1]:[31]])","v":0},null,0,0,0,0]
[{"$nulls":33},{"$f":"COUNTA(Dicembre[[#This Row],[1]:[31]])","v":0},null,0,0,0,0]
[{"$nulls":33},{"$f":"COUNTA(Dicembre[[#This Row],[1]:[31]])","v":0},null,0,0,0,0]
[{"$nulls":33},{"$f":"COUNTA(Dicembre[[#This Row],[1]:[31]])","v":0},null,0,0,0,0]
[{"$nulls":33},{"$f":"COUNTA(Dicembre[[#This Row],[1]:[31]])","v":0},null,0,0,0,0]
[{"$nulls":33},{"$f":"COUNTA(Dicembre[[#This Row],[1]:[31]])","v":0},null,0,0,0,0]
[{"$nulls":33},{"$f":"COUNTA(Dicembre[[#This Row],[1]:[31]])","v":0},null,0,0,0,0]
[{"$nulls":33},{"$f":"COUNTA(Dicembre[[#This Row],[1]:[31]])","v":0},null,0,0,0,0]
[{"$nulls":33},{"$f":"COUNTA(Dicembre[[#This Row],[1]:[31]])","v":0},null,0,0,0,0]
[{"$nulls":33},{"$f":"COUNTA(Dicembre[[#This Row],[1]:[31]])","v":0},null,0,0,0,0]
[{"$nulls":33},{"$f":"COUNTA(Dicembre[[#This Row],[1]:[31]])","v":0},null,0,0,0,0]
[{"$nulls":33},{"$f":"COUNTA(Dicembre[[#This Row],[1]:[31]])","v":0},null,0,0,0,0]
[null,{"$f":"\"Totale \"&NomeMese","v":"Totale Dicembre"},{"$f":"SUBTOTAL(103,Dicembre[1])","v":0},{"$f":"SUBTOTAL(103,Dicembre[2])","v":0},{"$f":"SUBTOTAL(103,Dicembre[3])","v":0},{"$f":"SUBTOTAL(103,Dicembre[4])","v":0},{"$f":"SUBTOTAL(103,Dicembre[5])","v":0},{"$f":"SUBTOTAL(103,Dicembre[6])","v":0},{"$f":"SUBTOTAL(103,Dicembre[7])","v":0},{"$f":"SUBTOTAL(103,Dicembre[8])","v":0},{"$f":"SUBTOTAL(103,Dicembre[9])","v":0},{"$f":"SUBTOTAL(103,Dicembre[10])","v":0},{"$f":"SUBTOTAL(103,Dicembre[11])","v":0},{"$f":"SUBTOTAL(103,Dicembre[12])","v":0},{"$f":"SUBTOTAL(103,Dicembre[13])","v":0},{"$f":"SUBTOTAL(103,Dicembre[14])","v":0},{"$f":"SUBTOTAL(103,Dicembre[15])","v":0},{"$f":"SUBTOTAL(103,Dicembre[16])","v":0},{"$f":"SUBTOTAL(103,Dicembre[17])","v":0},{"$f":"SUBTOTAL(103,Dicembre[18])","v":0},{"$f":"SUBTOTAL(103,Dicembre[19])","v":0},{"$f":"SUBTOTAL(103,Dicembre[20])","v":0},{"$f":"SUBTOTAL(103,Dicembre[21])","v":0},{"$f":"SUBTOTAL(103,Dicembre[22])","v":0},{"$f":"SUBTOTAL(103,Dicembre[23])","v":0},{"$f":"SUBTOTAL(103,Dicembre[24])","v":0},{"$f":"SUBTOTAL(103,Dicembre[25])","v":0},{"$f":"SUBTOTAL(103,Dicembre[26])","v":0},{"$f":"SUBTOTAL(103,Dicembre[27])","v":0},{"$f":"SUBTOTAL(103,Dicembre[28])","v":0},{"$f":"SUBTOTAL(103,Dicembre[29])","v":0},{"$f":"SUBTOTAL(103,Dicembre[30])","v":0},{"$f":"SUBTOTAL(103,Dicembre[31])","v":0},{"$f":"SUBTOTAL(109,Dicembre[Totale giorni])","v":0}]

{"sheet":"Nomi coristi","index":12,"n_rows":37,"n_cols":2,"rows_kept":37,"merged":[[3,0,11,0],[12,0,20,0],[21,0,29,0],[30,0,36,0]]}
[null,"Nomi Coristi"]
[]
[null,"Nomi Coristi"]
["TENORI 1","Ibba Raffaele"]
[null,"Chironi Claudio"]
[null,"Sedda Sandro"]
[null,"Sotgiu Alessandro"]
[null,"Lucianu Damiano"]
[null,"Carta Giovanni_junior"]
[null,"Damu Marco"]
[]
[]
["TENORI2","Carta Giovanni"]
[null,"Piras Francesco"]
[null,"Murru Pasquale"]
[null,"Tedde Giuseppe"]
[null,"Devilla Sergio"]
[null,"Gungui Francesco"]
[null,"Tedde Paolo"]
[]
[]
["BARITONI","Carta Antonio"]
[null,"Fois Luigi"]
[null,"Lai Pasquale"]
[null,"Carta Michele"]
[null,"Carta Filippo"]
[null,"Mariane Federico"]
[]
[]
[]
["BASSI","Lai Salvatore"]
[null,"Ladu Giovanni"]
[null,"Piga Francesco"]
[null,"Porqueddu Matteo"]
[null,"Guiso Guido"]
[null,"Floris Mario"]
[null,"Floris Fabio"]